BEGIN:VCALENDAR
VERSION:2.0
PRODID:-//Mount Madonna School - ECPv6.15.10//NONSGML v1.0//EN
CALSCALE:GREGORIAN
METHOD:PUBLISH
X-ORIGINAL-URL:https://www.mountmadonnaschool.org
X-WR-CALDESC:Events for Mount Madonna School
REFRESH-INTERVAL;VALUE=DURATION:PT1H
X-Robots-Tag:noindex
X-PUBLISHED-TTL:PT1H
BEGIN:VTIMEZONE
TZID:America/Los_Angeles
BEGIN:DAYLIGHT
TZOFFSETFROM:-0800
TZOFFSETTO:-0700
TZNAME:PDT
DTSTART:20170312T100000
END:DAYLIGHT
BEGIN:STANDARD
TZOFFSETFROM:-0700
TZOFFSETTO:-0800
TZNAME:PST
DTSTART:20171105T090000
END:STANDARD
BEGIN:DAYLIGHT
TZOFFSETFROM:-0800
TZOFFSETTO:-0700
TZNAME:PDT
DTSTART:20180311T100000
END:DAYLIGHT
BEGIN:STANDARD
TZOFFSETFROM:-0700
TZOFFSETTO:-0800
TZNAME:PST
DTSTART:20181104T090000
END:STANDARD
BEGIN:DAYLIGHT
TZOFFSETFROM:-0800
TZOFFSETTO:-0700
TZNAME:PDT
DTSTART:20190310T100000
END:DAYLIGHT
BEGIN:STANDARD
TZOFFSETFROM:-0700
TZOFFSETTO:-0800
TZNAME:PST
DTSTART:20191103T090000
END:STANDARD
END:VTIMEZONE
BEGIN:VEVENT
DTSTART;TZID=America/Los_Angeles:20181011T170000
DTEND;TZID=America/Los_Angeles:20181011T200000
DTSTAMP:20260420T085339
CREATED:20180926T220402Z
LAST-MODIFIED:20181008T180435Z
UID:10009148-1539277200-1539288000@www.mountmadonnaschool.org
SUMMARY:Gilroy Gardens Halloween @ Night and Business Expo
DESCRIPTION:Mount Madonna School families are invited to Gilroy Gardens Thursday\, October 11 from 5:00-8:00pm. Come enjoy the lights of  Gilroy Gardens’ Halloween@Night for only $5/pp (rides and restaurants closed) and stop by our booth at the Expo.
URL:https://www.mountmadonnaschool.org/event-archive-single/gilroy-gardens-halloween-night-and-business-expo/
LOCATION:Gilroy Gardens\, 3050 Hecker Pass Hwy\, Gilroy\, CA\, 95020\, United States
CATEGORIES:Admissions,Elementary,eNews Coming Up,High School,Middle School,Pre/K
GEO:37.0070554;-121.6281398
X-APPLE-STRUCTURED-LOCATION;VALUE=URI;X-ADDRESS=Gilroy Gardens 3050 Hecker Pass Hwy Gilroy CA 95020 United States;X-APPLE-RADIUS=500;X-TITLE=3050 Hecker Pass Hwy:geo:-121.6281398,37.0070554
END:VEVENT
END:VCALENDAR