BEGIN:VCALENDAR
VERSION:2.0
PRODID:-//Mount Madonna School - ECPv6.15.10//NONSGML v1.0//EN
CALSCALE:GREGORIAN
METHOD:PUBLISH
X-WR-CALNAME:Mount Madonna School
X-ORIGINAL-URL:https://www.mountmadonnaschool.org
X-WR-CALDESC:Events for Mount Madonna School
REFRESH-INTERVAL;VALUE=DURATION:PT1H
X-Robots-Tag:noindex
X-PUBLISHED-TTL:PT1H
BEGIN:VTIMEZONE
TZID:America/Los_Angeles
BEGIN:DAYLIGHT
TZOFFSETFROM:-0800
TZOFFSETTO:-0700
TZNAME:PDT
DTSTART:20250309T100000
END:DAYLIGHT
BEGIN:STANDARD
TZOFFSETFROM:-0700
TZOFFSETTO:-0800
TZNAME:PST
DTSTART:20251102T090000
END:STANDARD
BEGIN:DAYLIGHT
TZOFFSETFROM:-0800
TZOFFSETTO:-0700
TZNAME:PDT
DTSTART:20260308T100000
END:DAYLIGHT
BEGIN:STANDARD
TZOFFSETFROM:-0700
TZOFFSETTO:-0800
TZNAME:PST
DTSTART:20261101T090000
END:STANDARD
BEGIN:DAYLIGHT
TZOFFSETFROM:-0800
TZOFFSETTO:-0700
TZNAME:PDT
DTSTART:20270314T100000
END:DAYLIGHT
BEGIN:STANDARD
TZOFFSETFROM:-0700
TZOFFSETTO:-0800
TZNAME:PST
DTSTART:20271107T090000
END:STANDARD
END:VTIMEZONE
BEGIN:VEVENT
DTSTART;VALUE=DATE:20260420
DTEND;VALUE=DATE:20260421
DTSTAMP:20260420T075923
CREATED:20260402T143721Z
LAST-MODIFIED:20260402T143721Z
UID:10020216-1776643200-1776729599@www.mountmadonnaschool.org
SUMMARY:Lunch: Baked Mac N Cheese w/ Hawk's Roasted Veggies
DESCRIPTION:
URL:https://www.mountmadonnaschool.org/event-archive-single/lunch-baked-mac-n-cheese-w-hawks-roasted-veggies-3/
CATEGORIES:Lunch
END:VEVENT
BEGIN:VEVENT
DTSTART;TZID=America/Los_Angeles:20260420T153000
DTEND;TZID=America/Los_Angeles:20260420T173000
DTSTAMP:20260420T075923
CREATED:20260321T031246Z
LAST-MODIFIED:20260321T031246Z
UID:10020019-1776699000-1776706200@www.mountmadonnaschool.org
SUMMARY:Practice: HS Girl beach volleyball
DESCRIPTION:
URL:https://www.mountmadonnaschool.org/event-archive-single/practice-hs-girl-beach-volleyball-4/
END:VEVENT
BEGIN:VEVENT
DTSTART;TZID=America/Los_Angeles:20260420T153000
DTEND;TZID=America/Los_Angeles:20260420T173000
DTSTAMP:20260420T075924
CREATED:20260321T031311Z
LAST-MODIFIED:20260321T031311Z
UID:10020033-1776699000-1776706200@www.mountmadonnaschool.org
SUMMARY:Practice: HS Boys volleyball
DESCRIPTION:
URL:https://www.mountmadonnaschool.org/event-archive-single/practice-hs-boys-volleyball-28/
END:VEVENT
BEGIN:VEVENT
DTSTART;VALUE=DATE:20260421
DTEND;VALUE=DATE:20260422
DTSTAMP:20260420T075924
CREATED:20260402T143721Z
LAST-MODIFIED:20260415T134535Z
UID:10020217-1776729600-1776815999@www.mountmadonnaschool.org
SUMMARY:Lunch: Spaghetti and "Meat"balls\, Focaccia Bread w/ Hawk's Roasted Veggies
DESCRIPTION:
URL:https://www.mountmadonnaschool.org/event-archive-single/lunch-tofu-tikka-masala-over-rice-w-hawks-roasted-veggies-5/
CATEGORIES:Lunch
END:VEVENT
BEGIN:VEVENT
DTSTART;TZID=America/Los_Angeles:20260421T173000
DTEND;TZID=America/Los_Angeles:20260421T190000
DTSTAMP:20260420T075924
CREATED:20260323T222104Z
LAST-MODIFIED:20260323T222104Z
UID:10020193-1776792600-1776798000@www.mountmadonnaschool.org
SUMMARY:Game: HS Boys volleyball @ MMS vs Soquel High
DESCRIPTION:
URL:https://www.mountmadonnaschool.org/event-archive-single/game-hs-boys-volleyball-mms-vs-soquel-high-2/
CATEGORIES:Athletics,HS Volleyball Games
END:VEVENT
BEGIN:VEVENT
DTSTART;VALUE=DATE:20260422
DTEND;VALUE=DATE:20260423
DTSTAMP:20260420T075924
CREATED:20260402T143734Z
LAST-MODIFIED:20260402T143734Z
UID:10020218-1776816000-1776902399@www.mountmadonnaschool.org
SUMMARY:Lunch: Pizza w/ Roasted Veggies
DESCRIPTION:
URL:https://www.mountmadonnaschool.org/event-archive-single/lunch-pizza-w-roasted-veggies-9/
CATEGORIES:Lunch
END:VEVENT
BEGIN:VEVENT
DTSTART;TZID=America/Los_Angeles:20260422T153000
DTEND;TZID=America/Los_Angeles:20260422T173000
DTSTAMP:20260420T075924
CREATED:20260321T031313Z
LAST-MODIFIED:20260321T031313Z
UID:10020034-1776871800-1776879000@www.mountmadonnaschool.org
SUMMARY:Practice: HS Boys volleyball
DESCRIPTION:
URL:https://www.mountmadonnaschool.org/event-archive-single/practice-hs-boys-volleyball-29/
END:VEVENT
BEGIN:VEVENT
DTSTART;TZID=America/Los_Angeles:20260422T163000
DTEND;TZID=America/Los_Angeles:20260422T173000
DTSTAMP:20260420T075924
CREATED:20260413T232055Z
LAST-MODIFIED:20260415T223650Z
UID:10020226-1776875400-1776879000@www.mountmadonnaschool.org
SUMMARY:Game: Beach volleyball @ Main Beach
DESCRIPTION:
URL:https://www.mountmadonnaschool.org/event-archive-single/game-beach-volleyball-mms/
CATEGORIES:Athletics,HS Volleyball Games
END:VEVENT
BEGIN:VEVENT
DTSTART;VALUE=DATE:20260423
DTEND;VALUE=DATE:20260424
DTSTAMP:20260420T075924
CREATED:20260402T143735Z
LAST-MODIFIED:20260402T143735Z
UID:10020219-1776902400-1776988799@www.mountmadonnaschool.org
SUMMARY:Lunch: Pesto Caprese Sandwich  w/ Roasted Veggies w/ Chips
DESCRIPTION:
URL:https://www.mountmadonnaschool.org/event-archive-single/lunch-pesto-caprese-sandwich-w-roasted-veggies-w-chips-5/
CATEGORIES:Lunch
END:VEVENT
BEGIN:VEVENT
DTSTART;TZID=America/Los_Angeles:20260423T173000
DTEND;TZID=America/Los_Angeles:20260423T190000
DTSTAMP:20260420T075924
CREATED:20260323T222210Z
LAST-MODIFIED:20260323T222210Z
UID:10020194-1776965400-1776970800@www.mountmadonnaschool.org
SUMMARY:Game: HS Boys volleyball @ Scotts Valley High
DESCRIPTION:
URL:https://www.mountmadonnaschool.org/event-archive-single/game-hs-boys-volleyball-scotts-valley-high-2/
CATEGORIES:Athletics,HS Volleyball Games
END:VEVENT
BEGIN:VEVENT
DTSTART;VALUE=DATE:20260424
DTEND;VALUE=DATE:20260425
DTSTAMP:20260420T075924
CREATED:20260402T143735Z
LAST-MODIFIED:20260402T143735Z
UID:10020220-1776988800-1777075199@www.mountmadonnaschool.org
SUMMARY:Lunch: Burger  w/ Roasted Veggies w/ Chips
DESCRIPTION:
URL:https://www.mountmadonnaschool.org/event-archive-single/lunch-burger-w-roasted-veggies-w-chips-23/
CATEGORIES:Lunch
END:VEVENT
BEGIN:VEVENT
DTSTART;TZID=America/Los_Angeles:20260425T090000
DTEND;TZID=America/Los_Angeles:20260425T090000
DTSTAMP:20260420T075924
CREATED:20250310T151413Z
LAST-MODIFIED:20250911T145325Z
UID:10019512-1777107600-1777107600@www.mountmadonnaschool.org
SUMMARY:Summit for the Planet
DESCRIPTION:
URL:https://www.mountmadonnaschool.org/event-archive-single/summit-for-the-planet-6/
CATEGORIES:Admissions,Development,Elementary,eNews Looking Ahead,Featured Events,High School,Kindergarten,Middle School,Pre/K
END:VEVENT
BEGIN:VEVENT
DTSTART;VALUE=DATE:20260427
DTEND;VALUE=DATE:20260428
DTSTAMP:20260420T075924
CREATED:20260402T143736Z
LAST-MODIFIED:20260415T134617Z
UID:10020221-1777248000-1777334399@www.mountmadonnaschool.org
SUMMARY:Lunch: Eggplant Parmesan w/ Roasted Veggies and Focaccia Bread
DESCRIPTION:
URL:https://www.mountmadonnaschool.org/event-archive-single/lunch-vegetarian-lasagna-w-roasted-veggies-and-focaccia-bread-6/
CATEGORIES:Lunch
END:VEVENT
BEGIN:VEVENT
DTSTART;VALUE=DATE:20260428
DTEND;VALUE=DATE:20260429
DTSTAMP:20260420T075924
CREATED:20260402T143736Z
LAST-MODIFIED:20260415T134650Z
UID:10020222-1777334400-1777420799@www.mountmadonnaschool.org
SUMMARY:Lunch: Tofu Tikka Masala over Rice\, Hawks Roasted Veggies
DESCRIPTION:
URL:https://www.mountmadonnaschool.org/event-archive-single/lunch-bean-and-cheese-burrito-spanish-rice-hawks-roasted-veggies-2/
CATEGORIES:Lunch
END:VEVENT
BEGIN:VEVENT
DTSTART;VALUE=DATE:20260428
DTEND;VALUE=DATE:20260502
DTSTAMP:20260420T075924
CREATED:20251209T011313Z
LAST-MODIFIED:20251209T011313Z
UID:10019970-1777334400-1777679999@www.mountmadonnaschool.org
SUMMARY:5th Grade Learning Journey
DESCRIPTION:
URL:https://www.mountmadonnaschool.org/event-archive-single/5th-grade-learning-journey/
CATEGORIES:Elementary,Field Trips,Learning Journeys
END:VEVENT
BEGIN:VEVENT
DTSTART;VALUE=DATE:20260429
DTEND;VALUE=DATE:20260430
DTSTAMP:20260420T075924
CREATED:20260402T143749Z
LAST-MODIFIED:20260402T143749Z
UID:10020223-1777420800-1777507199@www.mountmadonnaschool.org
SUMMARY:Lunch: Pizza w/ Roasted Veggies
DESCRIPTION:
URL:https://www.mountmadonnaschool.org/event-archive-single/lunch-pizza-w-roasted-veggies-10/
CATEGORIES:Lunch
END:VEVENT
BEGIN:VEVENT
DTSTART;VALUE=DATE:20260430
DTEND;VALUE=DATE:20260501
DTSTAMP:20260420T075924
CREATED:20260402T143750Z
LAST-MODIFIED:20260415T134716Z
UID:10020224-1777507200-1777593599@www.mountmadonnaschool.org
SUMMARY:Lunch: Baked Potato w/ Roasted Veggies and Focaccia Bread
DESCRIPTION:
URL:https://www.mountmadonnaschool.org/event-archive-single/lunch-speghetti-and-meatballs-w-roasted-veggies-and-focaccia-bread/
CATEGORIES:Lunch
END:VEVENT
BEGIN:VEVENT
DTSTART;VALUE=DATE:20260430
DTEND;VALUE=DATE:20260502
DTSTAMP:20260420T075924
CREATED:20251209T011403Z
LAST-MODIFIED:20251209T011403Z
UID:10019971-1777507200-1777679999@www.mountmadonnaschool.org
SUMMARY:Grades 3-4 Sacramento Learning Journey
DESCRIPTION:
URL:https://www.mountmadonnaschool.org/event-archive-single/grades-3-4-sacramento-learning-journey/
CATEGORIES:Elementary,Field Trips,Learning Journeys
END:VEVENT
END:VCALENDAR