BEGIN:VCALENDAR
VERSION:2.0
PRODID:-//Mount Madonna School - ECPv6.15.10//NONSGML v1.0//EN
CALSCALE:GREGORIAN
METHOD:PUBLISH
X-ORIGINAL-URL:https://www.mountmadonnaschool.org
X-WR-CALDESC:Events for Mount Madonna School
REFRESH-INTERVAL;VALUE=DURATION:PT1H
X-Robots-Tag:noindex
X-PUBLISHED-TTL:PT1H
BEGIN:VTIMEZONE
TZID:America/Los_Angeles
BEGIN:DAYLIGHT
TZOFFSETFROM:-0800
TZOFFSETTO:-0700
TZNAME:PDT
DTSTART:20250309T100000
END:DAYLIGHT
BEGIN:STANDARD
TZOFFSETFROM:-0700
TZOFFSETTO:-0800
TZNAME:PST
DTSTART:20251102T090000
END:STANDARD
BEGIN:DAYLIGHT
TZOFFSETFROM:-0800
TZOFFSETTO:-0700
TZNAME:PDT
DTSTART:20260308T100000
END:DAYLIGHT
BEGIN:STANDARD
TZOFFSETFROM:-0700
TZOFFSETTO:-0800
TZNAME:PST
DTSTART:20261101T090000
END:STANDARD
BEGIN:DAYLIGHT
TZOFFSETFROM:-0800
TZOFFSETTO:-0700
TZNAME:PDT
DTSTART:20270314T100000
END:DAYLIGHT
BEGIN:STANDARD
TZOFFSETFROM:-0700
TZOFFSETTO:-0800
TZNAME:PST
DTSTART:20271107T090000
END:STANDARD
END:VTIMEZONE
BEGIN:VEVENT
DTSTART;VALUE=DATE:20260122
DTEND;VALUE=DATE:20260123
DTSTAMP:20260419T092451
CREATED:20260107T001823Z
LAST-MODIFIED:20260107T001823Z
UID:10019988-1769040000-1769126399@www.mountmadonnaschool.org
SUMMARY:Lunch: Nachos and Salsa\, Spanish Rice\, Black Beans and Hawk's Roasted Veggies
DESCRIPTION:
URL:https://www.mountmadonnaschool.org/event-archive-single/lunch-nachos-and-salsa-spanish-rice-black-beans-and-hawks-roasted-veggies-2/
CATEGORIES:Lunch
END:VEVENT
BEGIN:VEVENT
DTSTART;TZID=America/Los_Angeles:20260122T153000
DTEND;TZID=America/Los_Angeles:20260122T170000
DTSTAMP:20260419T092451
CREATED:20251120T221218Z
LAST-MODIFIED:20251122T001742Z
UID:10019938-1769095800-1769101200@www.mountmadonnaschool.org
SUMMARY:Practice: HS Soccer
DESCRIPTION:
URL:https://www.mountmadonnaschool.org/event-archive-single/practice-hs-soccer-5/2026-01-22/
CATEGORIES:Athletics,High School
END:VEVENT
BEGIN:VEVENT
DTSTART;TZID=America/Los_Angeles:20260122T153000
DTEND;TZID=America/Los_Angeles:20260122T170000
DTSTAMP:20260419T092451
CREATED:20260112T234315Z
LAST-MODIFIED:20260112T234315Z
UID:10020001-1769095800-1769101200@www.mountmadonnaschool.org
SUMMARY:Practice: MS Girls Volleyball
DESCRIPTION:
URL:https://www.mountmadonnaschool.org/event-archive-single/practice-ms-girls-volleyball-8/2026-01-22/
CATEGORIES:Athletics,Middle School
END:VEVENT
END:VCALENDAR