BEGIN:VCALENDAR
VERSION:2.0
PRODID:-//Mount Madonna School - ECPv6.15.10//NONSGML v1.0//EN
CALSCALE:GREGORIAN
METHOD:PUBLISH
X-WR-CALNAME:Mount Madonna School
X-ORIGINAL-URL:https://www.mountmadonnaschool.org
X-WR-CALDESC:Events for Mount Madonna School
REFRESH-INTERVAL;VALUE=DURATION:PT1H
X-Robots-Tag:noindex
X-PUBLISHED-TTL:PT1H
BEGIN:VTIMEZONE
TZID:America/Los_Angeles
BEGIN:DAYLIGHT
TZOFFSETFROM:-0800
TZOFFSETTO:-0700
TZNAME:PDT
DTSTART:20240310T100000
END:DAYLIGHT
BEGIN:STANDARD
TZOFFSETFROM:-0700
TZOFFSETTO:-0800
TZNAME:PST
DTSTART:20241103T090000
END:STANDARD
BEGIN:DAYLIGHT
TZOFFSETFROM:-0800
TZOFFSETTO:-0700
TZNAME:PDT
DTSTART:20250309T100000
END:DAYLIGHT
BEGIN:STANDARD
TZOFFSETFROM:-0700
TZOFFSETTO:-0800
TZNAME:PST
DTSTART:20251102T090000
END:STANDARD
BEGIN:DAYLIGHT
TZOFFSETFROM:-0800
TZOFFSETTO:-0700
TZNAME:PDT
DTSTART:20260308T100000
END:DAYLIGHT
BEGIN:STANDARD
TZOFFSETFROM:-0700
TZOFFSETTO:-0800
TZNAME:PST
DTSTART:20261101T090000
END:STANDARD
END:VTIMEZONE
BEGIN:VEVENT
DTSTART;VALUE=DATE:20250613
DTEND;VALUE=DATE:20250614
DTSTAMP:20260422T193304
CREATED:20240805T061014Z
LAST-MODIFIED:20240805T061014Z
UID:10014501-1749772800-1749859199@www.mountmadonnaschool.org
SUMMARY:End of 4th Term
DESCRIPTION:End of 4th Term
URL:https://www.mountmadonnaschool.org/event-archive-single/end-of-4th-term-2/
END:VEVENT
BEGIN:VEVENT
DTSTART;VALUE=DATE:20250613
DTEND;VALUE=DATE:20250614
DTSTAMP:20260422T193304
CREATED:20240805T061255Z
LAST-MODIFIED:20240805T061255Z
UID:10014522-1749772800-1749859199@www.mountmadonnaschool.org
SUMMARY:End of Semester 2
DESCRIPTION:End of Semester 2
URL:https://www.mountmadonnaschool.org/event-archive-single/end-of-semester-2/
END:VEVENT
BEGIN:VEVENT
DTSTART;VALUE=DATE:20250613
DTEND;VALUE=DATE:20250614
DTSTAMP:20260422T193304
CREATED:20240805T061311Z
LAST-MODIFIED:20240805T061311Z
UID:10014526-1749772800-1749859199@www.mountmadonnaschool.org
SUMMARY:End of Quarter 4
DESCRIPTION:End of Quarter 4
URL:https://www.mountmadonnaschool.org/event-archive-single/end-of-quarter-4/
END:VEVENT
END:VCALENDAR