BEGIN:VCALENDAR
VERSION:2.0
PRODID:-//Mount Madonna School - ECPv6.15.10//NONSGML v1.0//EN
CALSCALE:GREGORIAN
METHOD:PUBLISH
X-ORIGINAL-URL:https://www.mountmadonnaschool.org
X-WR-CALDESC:Events for Mount Madonna School
REFRESH-INTERVAL;VALUE=DURATION:PT1H
X-Robots-Tag:noindex
X-PUBLISHED-TTL:PT1H
BEGIN:VTIMEZONE
TZID:America/Los_Angeles
BEGIN:DAYLIGHT
TZOFFSETFROM:-0800
TZOFFSETTO:-0700
TZNAME:PDT
DTSTART:20240310T100000
END:DAYLIGHT
BEGIN:STANDARD
TZOFFSETFROM:-0700
TZOFFSETTO:-0800
TZNAME:PST
DTSTART:20241103T090000
END:STANDARD
BEGIN:DAYLIGHT
TZOFFSETFROM:-0800
TZOFFSETTO:-0700
TZNAME:PDT
DTSTART:20250309T100000
END:DAYLIGHT
BEGIN:STANDARD
TZOFFSETFROM:-0700
TZOFFSETTO:-0800
TZNAME:PST
DTSTART:20251102T090000
END:STANDARD
BEGIN:DAYLIGHT
TZOFFSETFROM:-0800
TZOFFSETTO:-0700
TZNAME:PDT
DTSTART:20260308T100000
END:DAYLIGHT
BEGIN:STANDARD
TZOFFSETFROM:-0700
TZOFFSETTO:-0800
TZNAME:PST
DTSTART:20261101T090000
END:STANDARD
END:VTIMEZONE
BEGIN:VEVENT
DTSTART;TZID=America/Los_Angeles:20250610T100000
DTEND;TZID=America/Los_Angeles:20250610T111500
DTSTAMP:20260422T141636
CREATED:20250103T223618Z
LAST-MODIFIED:20250530T211136Z
UID:10015166-1749549600-1749554100@www.mountmadonnaschool.org
SUMMARY:MS/HS Awards Assembly
DESCRIPTION:Early dismissal: 1:00pm
URL:https://www.mountmadonnaschool.org/event-archive-single/ms-hs-awards-assembly-2/
END:VEVENT
END:VCALENDAR