BEGIN:VCALENDAR
VERSION:2.0
PRODID:-//Mount Madonna School - ECPv6.15.10//NONSGML v1.0//EN
CALSCALE:GREGORIAN
METHOD:PUBLISH
X-ORIGINAL-URL:https://www.mountmadonnaschool.org
X-WR-CALDESC:Events for Mount Madonna School
REFRESH-INTERVAL;VALUE=DURATION:PT1H
X-Robots-Tag:noindex
X-PUBLISHED-TTL:PT1H
BEGIN:VTIMEZONE
TZID:America/Los_Angeles
BEGIN:DAYLIGHT
TZOFFSETFROM:-0800
TZOFFSETTO:-0700
TZNAME:PDT
DTSTART:20240310T100000
END:DAYLIGHT
BEGIN:STANDARD
TZOFFSETFROM:-0700
TZOFFSETTO:-0800
TZNAME:PST
DTSTART:20241103T090000
END:STANDARD
BEGIN:DAYLIGHT
TZOFFSETFROM:-0800
TZOFFSETTO:-0700
TZNAME:PDT
DTSTART:20250309T100000
END:DAYLIGHT
BEGIN:STANDARD
TZOFFSETFROM:-0700
TZOFFSETTO:-0800
TZNAME:PST
DTSTART:20251102T090000
END:STANDARD
BEGIN:DAYLIGHT
TZOFFSETFROM:-0800
TZOFFSETTO:-0700
TZNAME:PDT
DTSTART:20260308T100000
END:DAYLIGHT
BEGIN:STANDARD
TZOFFSETFROM:-0700
TZOFFSETTO:-0800
TZNAME:PST
DTSTART:20261101T090000
END:STANDARD
END:VTIMEZONE
BEGIN:VEVENT
DTSTART;VALUE=DATE:20250523
DTEND;VALUE=DATE:20250527
DTSTAMP:20260419T123300
CREATED:20240805T061013Z
LAST-MODIFIED:20240805T061013Z
UID:10014500-1747958400-1748303999@www.mountmadonnaschool.org
SUMMARY:Memorial Day
DESCRIPTION:Memorial Day
URL:https://www.mountmadonnaschool.org/event-archive-single/memorial-day-2/
END:VEVENT
BEGIN:VEVENT
DTSTART;VALUE=DATE:20250523
DTEND;VALUE=DATE:20250527
DTSTAMP:20260419T123300
CREATED:20250103T223604Z
LAST-MODIFIED:20250103T223604Z
UID:10015163-1747958400-1748303999@www.mountmadonnaschool.org
SUMMARY:Memorial Day Holiday
DESCRIPTION:
URL:https://www.mountmadonnaschool.org/event-archive-single/memorial-day-holiday-2/
CATEGORIES:Holiday
END:VEVENT
BEGIN:VEVENT
DTSTART;TZID=America/Los_Angeles:20250523T163000
DTEND;TZID=America/Los_Angeles:20250523T173000
DTSTAMP:20260419T123300
CREATED:20250415T225701Z
LAST-MODIFIED:20250415T225701Z
UID:10019612-1748017800-1748021400@www.mountmadonnaschool.org
SUMMARY:Meet: MS Track & Field @ Harbor High
DESCRIPTION:
URL:https://www.mountmadonnaschool.org/event-archive-single/meet-ms-track-field-harbor-high/2025-05-23/
CATEGORIES:Athletics,MS Track & Field Meets
END:VEVENT
END:VCALENDAR