BEGIN:VCALENDAR
VERSION:2.0
PRODID:-//Mount Madonna School - ECPv6.15.10//NONSGML v1.0//EN
CALSCALE:GREGORIAN
METHOD:PUBLISH
X-WR-CALNAME:Mount Madonna School
X-ORIGINAL-URL:https://www.mountmadonnaschool.org
X-WR-CALDESC:Events for Mount Madonna School
REFRESH-INTERVAL;VALUE=DURATION:PT1H
X-Robots-Tag:noindex
X-PUBLISHED-TTL:PT1H
BEGIN:VTIMEZONE
TZID:America/Los_Angeles
BEGIN:DAYLIGHT
TZOFFSETFROM:-0800
TZOFFSETTO:-0700
TZNAME:PDT
DTSTART:20230312T100000
END:DAYLIGHT
BEGIN:STANDARD
TZOFFSETFROM:-0700
TZOFFSETTO:-0800
TZNAME:PST
DTSTART:20231105T090000
END:STANDARD
BEGIN:DAYLIGHT
TZOFFSETFROM:-0800
TZOFFSETTO:-0700
TZNAME:PDT
DTSTART:20240310T100000
END:DAYLIGHT
BEGIN:STANDARD
TZOFFSETFROM:-0700
TZOFFSETTO:-0800
TZNAME:PST
DTSTART:20241103T090000
END:STANDARD
BEGIN:DAYLIGHT
TZOFFSETFROM:-0800
TZOFFSETTO:-0700
TZNAME:PDT
DTSTART:20250309T100000
END:DAYLIGHT
BEGIN:STANDARD
TZOFFSETFROM:-0700
TZOFFSETTO:-0800
TZNAME:PST
DTSTART:20251102T090000
END:STANDARD
END:VTIMEZONE
BEGIN:VEVENT
DTSTART;VALUE=DATE:20241121
DTEND;VALUE=DATE:20241122
DTSTAMP:20260422T002009
CREATED:20241103T000209Z
LAST-MODIFIED:20241103T000209Z
UID:10015033-1732147200-1732233599@www.mountmadonnaschool.org
SUMMARY:Lunch: Butternut Soup & Grilled Cheese
DESCRIPTION:
URL:https://www.mountmadonnaschool.org/event-archive-single/lunch-butternut-soup-grilled-cheese/
CATEGORIES:Lunch
END:VEVENT
BEGIN:VEVENT
DTSTART;TZID=America/Los_Angeles:20241121T153000
DTEND;TZID=America/Los_Angeles:20241121T170000
DTSTAMP:20260422T002009
CREATED:20241112T215651Z
LAST-MODIFIED:20241112T215651Z
UID:10015037-1732203000-1732208400@www.mountmadonnaschool.org
SUMMARY:Practice: MS Boys Basketball
DESCRIPTION:
URL:https://www.mountmadonnaschool.org/event-archive-single/practice-ms-boys-basketball-2/
CATEGORIES:Athletics,Middle School
END:VEVENT
BEGIN:VEVENT
DTSTART;TZID=America/Los_Angeles:20241121T153000
DTEND;TZID=America/Los_Angeles:20241121T170000
DTSTAMP:20260422T002009
CREATED:20241113T002230Z
LAST-MODIFIED:20241113T002230Z
UID:10015062-1732203000-1732208400@www.mountmadonnaschool.org
SUMMARY:Practice: HS Boys Basketball
DESCRIPTION:
URL:https://www.mountmadonnaschool.org/event-archive-single/practice-hs-boys-basketball-7/
CATEGORIES:Athletics,High School
END:VEVENT
END:VCALENDAR