BEGIN:VCALENDAR
VERSION:2.0
PRODID:-//Mount Madonna School - ECPv6.15.10//NONSGML v1.0//EN
CALSCALE:GREGORIAN
METHOD:PUBLISH
X-ORIGINAL-URL:https://www.mountmadonnaschool.org
X-WR-CALDESC:Events for Mount Madonna School
REFRESH-INTERVAL;VALUE=DURATION:PT1H
X-Robots-Tag:noindex
X-PUBLISHED-TTL:PT1H
BEGIN:VTIMEZONE
TZID:America/Los_Angeles
BEGIN:DAYLIGHT
TZOFFSETFROM:-0800
TZOFFSETTO:-0700
TZNAME:PDT
DTSTART:20230312T100000
END:DAYLIGHT
BEGIN:STANDARD
TZOFFSETFROM:-0700
TZOFFSETTO:-0800
TZNAME:PST
DTSTART:20231105T090000
END:STANDARD
BEGIN:DAYLIGHT
TZOFFSETFROM:-0800
TZOFFSETTO:-0700
TZNAME:PDT
DTSTART:20240310T100000
END:DAYLIGHT
BEGIN:STANDARD
TZOFFSETFROM:-0700
TZOFFSETTO:-0800
TZNAME:PST
DTSTART:20241103T090000
END:STANDARD
BEGIN:DAYLIGHT
TZOFFSETFROM:-0800
TZOFFSETTO:-0700
TZNAME:PDT
DTSTART:20250309T100000
END:DAYLIGHT
BEGIN:STANDARD
TZOFFSETFROM:-0700
TZOFFSETTO:-0800
TZNAME:PST
DTSTART:20251102T090000
END:STANDARD
END:VTIMEZONE
BEGIN:VEVENT
DTSTART;VALUE=DATE:20241119
DTEND;VALUE=DATE:20241120
DTSTAMP:20260422T002301
CREATED:20241103T000208Z
LAST-MODIFIED:20241103T000208Z
UID:10015031-1731974400-1732060799@www.mountmadonnaschool.org
SUMMARY:Lunch: Pesto Caprese & Sprouts Sandwich
DESCRIPTION:
URL:https://www.mountmadonnaschool.org/event-archive-single/lunch-pesto-caprese-sprouts-sandwich/
CATEGORIES:Lunch
END:VEVENT
BEGIN:VEVENT
DTSTART;TZID=America/Los_Angeles:20241119T153000
DTEND;TZID=America/Los_Angeles:20241119T170000
DTSTAMP:20260422T002301
CREATED:20241112T215857Z
LAST-MODIFIED:20241112T215857Z
UID:10015038-1732030200-1732035600@www.mountmadonnaschool.org
SUMMARY:Practice: HS Boys Basketball
DESCRIPTION:
URL:https://www.mountmadonnaschool.org/event-archive-single/practice-hs-boys-basketball/
CATEGORIES:althetics,High School
END:VEVENT
END:VCALENDAR