BEGIN:VCALENDAR
VERSION:2.0
PRODID:-//Mount Madonna School - ECPv6.15.10//NONSGML v1.0//EN
CALSCALE:GREGORIAN
METHOD:PUBLISH
X-ORIGINAL-URL:https://www.mountmadonnaschool.org
X-WR-CALDESC:Events for Mount Madonna School
REFRESH-INTERVAL;VALUE=DURATION:PT1H
X-Robots-Tag:noindex
X-PUBLISHED-TTL:PT1H
BEGIN:VTIMEZONE
TZID:America/Los_Angeles
BEGIN:DAYLIGHT
TZOFFSETFROM:-0800
TZOFFSETTO:-0700
TZNAME:PDT
DTSTART:20230312T100000
END:DAYLIGHT
BEGIN:STANDARD
TZOFFSETFROM:-0700
TZOFFSETTO:-0800
TZNAME:PST
DTSTART:20231105T090000
END:STANDARD
BEGIN:DAYLIGHT
TZOFFSETFROM:-0800
TZOFFSETTO:-0700
TZNAME:PDT
DTSTART:20240310T100000
END:DAYLIGHT
BEGIN:STANDARD
TZOFFSETFROM:-0700
TZOFFSETTO:-0800
TZNAME:PST
DTSTART:20241103T090000
END:STANDARD
BEGIN:DAYLIGHT
TZOFFSETFROM:-0800
TZOFFSETTO:-0700
TZNAME:PDT
DTSTART:20250309T100000
END:DAYLIGHT
BEGIN:STANDARD
TZOFFSETFROM:-0700
TZOFFSETTO:-0800
TZNAME:PST
DTSTART:20251102T090000
END:STANDARD
END:VTIMEZONE
BEGIN:VEVENT
DTSTART;VALUE=DATE:20241028
DTEND;VALUE=DATE:20241102
DTSTAMP:20260423T045613
CREATED:20241022T062401Z
LAST-MODIFIED:20241022T062401Z
UID:10015017-1730073600-1730505599@www.mountmadonnaschool.org
SUMMARY:Scholastic Book Fair
DESCRIPTION:
URL:https://www.mountmadonnaschool.org/event-archive-single/scholastic-book-fair-5/
CATEGORIES:Elementary,High School,Kindergarten,Middle School,Pre/K,Preschool
END:VEVENT
BEGIN:VEVENT
DTSTART;VALUE=DATE:20241101
DTEND;VALUE=DATE:20241102
DTSTAMP:20260423T045613
CREATED:20240805T060943Z
LAST-MODIFIED:20240805T060943Z
UID:10014488-1730419200-1730505599@www.mountmadonnaschool.org
SUMMARY:Pre-5 Conferences (No School for Pre-5)
DESCRIPTION:Pre-5 Conferences (No School for Pre-5)
URL:https://www.mountmadonnaschool.org/event-archive-single/pre-5-conferences-no-school-for-pre-5-3/
END:VEVENT
BEGIN:VEVENT
DTSTART;VALUE=DATE:20241101
DTEND;VALUE=DATE:20241102
DTSTAMP:20260423T045613
CREATED:20240920T151456Z
LAST-MODIFIED:20240920T151456Z
UID:10014980-1730419200-1730505599@www.mountmadonnaschool.org
SUMMARY:Applications open for 2025-26 School Year
DESCRIPTION:
URL:https://www.mountmadonnaschool.org/event-archive-single/applications-open-for-2025-26-school-year/
CATEGORIES:Admissions
END:VEVENT
BEGIN:VEVENT
DTSTART;VALUE=DATE:20241101
DTEND;VALUE=DATE:20241102
DTSTAMP:20260423T045613
CREATED:20241103T000149Z
LAST-MODIFIED:20241103T000149Z
UID:10015019-1730419200-1730505599@www.mountmadonnaschool.org
SUMMARY:Lunch: Burger Friday (Freshly Baked Buns)
DESCRIPTION:
URL:https://www.mountmadonnaschool.org/event-archive-single/lunch-burger-friday-freshly-baked-buns/
CATEGORIES:Lunch
END:VEVENT
END:VCALENDAR