BEGIN:VCALENDAR
VERSION:2.0
PRODID:-//Mount Madonna School - ECPv6.15.10//NONSGML v1.0//EN
CALSCALE:GREGORIAN
METHOD:PUBLISH
X-WR-CALNAME:Mount Madonna School
X-ORIGINAL-URL:https://www.mountmadonnaschool.org
X-WR-CALDESC:Events for Mount Madonna School
REFRESH-INTERVAL;VALUE=DURATION:PT1H
X-Robots-Tag:noindex
X-PUBLISHED-TTL:PT1H
BEGIN:VTIMEZONE
TZID:America/Los_Angeles
BEGIN:DAYLIGHT
TZOFFSETFROM:-0800
TZOFFSETTO:-0700
TZNAME:PDT
DTSTART:20230312T100000
END:DAYLIGHT
BEGIN:STANDARD
TZOFFSETFROM:-0700
TZOFFSETTO:-0800
TZNAME:PST
DTSTART:20231105T090000
END:STANDARD
BEGIN:DAYLIGHT
TZOFFSETFROM:-0800
TZOFFSETTO:-0700
TZNAME:PDT
DTSTART:20240310T100000
END:DAYLIGHT
BEGIN:STANDARD
TZOFFSETFROM:-0700
TZOFFSETTO:-0800
TZNAME:PST
DTSTART:20241103T090000
END:STANDARD
BEGIN:DAYLIGHT
TZOFFSETFROM:-0800
TZOFFSETTO:-0700
TZNAME:PDT
DTSTART:20250309T100000
END:DAYLIGHT
BEGIN:STANDARD
TZOFFSETFROM:-0700
TZOFFSETTO:-0800
TZNAME:PST
DTSTART:20251102T090000
END:STANDARD
END:VTIMEZONE
BEGIN:VEVENT
DTSTART;VALUE=DATE:20241028
DTEND;VALUE=DATE:20241102
DTSTAMP:20260423T063903
CREATED:20241022T062401Z
LAST-MODIFIED:20241022T062401Z
UID:10015017-1730073600-1730505599@www.mountmadonnaschool.org
SUMMARY:Scholastic Book Fair
DESCRIPTION:
URL:https://www.mountmadonnaschool.org/event-archive-single/scholastic-book-fair-5/
CATEGORIES:Elementary,High School,Kindergarten,Middle School,Pre/K,Preschool
END:VEVENT
BEGIN:VEVENT
DTSTART;VALUE=DATE:20241031
DTEND;VALUE=DATE:20241101
DTSTAMP:20260423T063903
CREATED:20241001T183114Z
LAST-MODIFIED:20241008T210209Z
UID:10015013-1730332800-1730419199@www.mountmadonnaschool.org
SUMMARY:Lunch: Beyond a Boomer Sausage
DESCRIPTION:
URL:https://www.mountmadonnaschool.org/event-archive-single/lunch-mycelium-boomer-sausage/
CATEGORIES:Lunch
END:VEVENT
BEGIN:VEVENT
DTSTART;TZID=America/Los_Angeles:20241031T090000
DTEND;TZID=America/Los_Angeles:20241031T110000
DTSTAMP:20260423T063903
CREATED:20240805T224935Z
LAST-MODIFIED:20241010T195142Z
UID:10014550-1730365200-1730372400@www.mountmadonnaschool.org
SUMMARY:Halloween Lower School Parade and Assembly
DESCRIPTION:Halloween Lower School  \nParade and  assembly with performances followed by games
URL:https://www.mountmadonnaschool.org/event-archive-single/halloween-lower-school-parade-and-dance-party/
CATEGORIES:Elementary,Kindergarten,Pre/K,Preschool
END:VEVENT
BEGIN:VEVENT
DTSTART;TZID=America/Los_Angeles:20241031T153000
DTEND;TZID=America/Los_Angeles:20241031T153000
DTSTAMP:20260423T063903
CREATED:20240806T205017Z
LAST-MODIFIED:20240806T205017Z
UID:10014712-1730388600-1730388600@www.mountmadonnaschool.org
SUMMARY:Cross Country - Practice
DESCRIPTION:
URL:https://www.mountmadonnaschool.org/event-archive-single/cross-country-practice-35/
CATEGORIES:althetics,HS Cross Country Meets,MS Cross Country Meets
END:VEVENT
END:VCALENDAR