BEGIN:VCALENDAR
VERSION:2.0
PRODID:-//Mount Madonna School - ECPv6.15.10//NONSGML v1.0//EN
CALSCALE:GREGORIAN
METHOD:PUBLISH
X-ORIGINAL-URL:https://www.mountmadonnaschool.org
X-WR-CALDESC:Events for Mount Madonna School
REFRESH-INTERVAL;VALUE=DURATION:PT1H
X-Robots-Tag:noindex
X-PUBLISHED-TTL:PT1H
BEGIN:VTIMEZONE
TZID:America/Los_Angeles
BEGIN:DAYLIGHT
TZOFFSETFROM:-0800
TZOFFSETTO:-0700
TZNAME:PDT
DTSTART:20230312T100000
END:DAYLIGHT
BEGIN:STANDARD
TZOFFSETFROM:-0700
TZOFFSETTO:-0800
TZNAME:PST
DTSTART:20231105T090000
END:STANDARD
BEGIN:DAYLIGHT
TZOFFSETFROM:-0800
TZOFFSETTO:-0700
TZNAME:PDT
DTSTART:20240310T100000
END:DAYLIGHT
BEGIN:STANDARD
TZOFFSETFROM:-0700
TZOFFSETTO:-0800
TZNAME:PST
DTSTART:20241103T090000
END:STANDARD
BEGIN:DAYLIGHT
TZOFFSETFROM:-0800
TZOFFSETTO:-0700
TZNAME:PDT
DTSTART:20250309T100000
END:DAYLIGHT
BEGIN:STANDARD
TZOFFSETFROM:-0700
TZOFFSETTO:-0800
TZNAME:PST
DTSTART:20251102T090000
END:STANDARD
END:VTIMEZONE
BEGIN:VEVENT
DTSTART;VALUE=DATE:20241021
DTEND;VALUE=DATE:20241026
DTSTAMP:20260423T181730
CREATED:20240805T224718Z
LAST-MODIFIED:20240805T224718Z
UID:10014548-1729468800-1729900799@www.mountmadonnaschool.org
SUMMARY:Homecoming Week
DESCRIPTION:Homecoming Week
URL:https://www.mountmadonnaschool.org/event-archive-single/homecoming-week-2/
CATEGORIES:Alumni,High School
END:VEVENT
BEGIN:VEVENT
DTSTART;VALUE=DATE:20241024
DTEND;VALUE=DATE:20241025
DTSTAMP:20260423T181730
CREATED:20241001T183059Z
LAST-MODIFIED:20241022T225122Z
UID:10015008-1729728000-1729814399@www.mountmadonnaschool.org
SUMMARY:Lunch: Spaghetti with Red Sauce
DESCRIPTION:
URL:https://www.mountmadonnaschool.org/event-archive-single/lunch-portabella-burger-2/
CATEGORIES:Lunch
END:VEVENT
BEGIN:VEVENT
DTSTART;TZID=America/Los_Angeles:20241024T163000
DTEND;TZID=America/Los_Angeles:20241024T163000
DTSTAMP:20260423T181731
CREATED:20240806T205017Z
LAST-MODIFIED:20240806T205017Z
UID:10014710-1729787400-1729787400@www.mountmadonnaschool.org
SUMMARY:Cross Country - Race
DESCRIPTION:
URL:https://www.mountmadonnaschool.org/event-archive-single/cross-country-race-10/
CATEGORIES:althetics,HS Cross Country Meets,MS Cross Country Meets
END:VEVENT
BEGIN:VEVENT
DTSTART;TZID=America/Los_Angeles:20241024T163000
DTEND;TZID=America/Los_Angeles:20241024T163000
DTSTAMP:20260423T181731
CREATED:20240902T235553Z
LAST-MODIFIED:20240912T224612Z
UID:10014844-1729787400-1729787400@www.mountmadonnaschool.org
SUMMARY:Middle School Cross Country Meet
DESCRIPTION:Middle School Cross Country Meet (Tentative – Siubject to change) – Thur. 10/24 – Blue Ball Park (FINALS) @ 4:30 (Soquel)
URL:https://www.mountmadonnaschool.org/event-archive-single/middle-school-cross-country-meet-tentative-6/
CATEGORIES:althetics,Middle School,MS Cross Country Meets
END:VEVENT
BEGIN:VEVENT
DTSTART;TZID=America/Los_Angeles:20241024T170000
DTEND;TZID=America/Los_Angeles:20241024T170000
DTSTAMP:20260423T181731
CREATED:20240806T161949Z
LAST-MODIFIED:20241008T195253Z
UID:10014686-1729789200-1729789200@www.mountmadonnaschool.org
SUMMARY:Girls Volleyball - Match
DESCRIPTION:Girls Volleyball Match – AWAY | Opponent: Harbor\nJV – start at 5:00\nVarsity – start at 6:30
URL:https://www.mountmadonnaschool.org/event-archive-single/girls-volleyball-match-26/
CATEGORIES:Athletics,HS Volleyball Games
END:VEVENT
END:VCALENDAR