BEGIN:VCALENDAR
VERSION:2.0
PRODID:-//Mount Madonna School - ECPv6.15.10//NONSGML v1.0//EN
CALSCALE:GREGORIAN
METHOD:PUBLISH
X-WR-CALNAME:Mount Madonna School
X-ORIGINAL-URL:https://www.mountmadonnaschool.org
X-WR-CALDESC:Events for Mount Madonna School
REFRESH-INTERVAL;VALUE=DURATION:PT1H
X-Robots-Tag:noindex
X-PUBLISHED-TTL:PT1H
BEGIN:VTIMEZONE
TZID:America/Los_Angeles
BEGIN:DAYLIGHT
TZOFFSETFROM:-0800
TZOFFSETTO:-0700
TZNAME:PDT
DTSTART:20230312T100000
END:DAYLIGHT
BEGIN:STANDARD
TZOFFSETFROM:-0700
TZOFFSETTO:-0800
TZNAME:PST
DTSTART:20231105T090000
END:STANDARD
BEGIN:DAYLIGHT
TZOFFSETFROM:-0800
TZOFFSETTO:-0700
TZNAME:PDT
DTSTART:20240310T100000
END:DAYLIGHT
BEGIN:STANDARD
TZOFFSETFROM:-0700
TZOFFSETTO:-0800
TZNAME:PST
DTSTART:20241103T090000
END:STANDARD
BEGIN:DAYLIGHT
TZOFFSETFROM:-0800
TZOFFSETTO:-0700
TZNAME:PDT
DTSTART:20250309T100000
END:DAYLIGHT
BEGIN:STANDARD
TZOFFSETFROM:-0700
TZOFFSETTO:-0800
TZNAME:PST
DTSTART:20251102T090000
END:STANDARD
END:VTIMEZONE
BEGIN:VEVENT
DTSTART;VALUE=DATE:20241010
DTEND;VALUE=DATE:20241011
DTSTAMP:20260424T162431
CREATED:20241001T183028Z
LAST-MODIFIED:20241001T184220Z
UID:10014998-1728518400-1728604799@www.mountmadonnaschool.org
SUMMARY:Lunch: Impossible Nuggets
DESCRIPTION:
URL:https://www.mountmadonnaschool.org/event-archive-single/lunch-impossible-nuggets/
CATEGORIES:Lunch
END:VEVENT
BEGIN:VEVENT
DTSTART;TZID=America/Los_Angeles:20241010T153000
DTEND;TZID=America/Los_Angeles:20241010T153000
DTSTAMP:20260424T162431
CREATED:20240806T161733Z
LAST-MODIFIED:20240806T161733Z
UID:10014676-1728574200-1728574200@www.mountmadonnaschool.org
SUMMARY:Girls Volleyball - Practice
DESCRIPTION:
URL:https://www.mountmadonnaschool.org/event-archive-single/girls-volleyball-practice-63/
CATEGORIES:Athletics,HS Volleyball Games
END:VEVENT
BEGIN:VEVENT
DTSTART;TZID=America/Los_Angeles:20241010T163000
DTEND;TZID=America/Los_Angeles:20241010T163000
DTSTAMP:20260424T162431
CREATED:20240806T205014Z
LAST-MODIFIED:20240806T205014Z
UID:10014706-1728577800-1728577800@www.mountmadonnaschool.org
SUMMARY:Cross Country - Race
DESCRIPTION:
URL:https://www.mountmadonnaschool.org/event-archive-single/cross-country-race-9/
CATEGORIES:althetics,HS Cross Country Meets,MS Cross Country Meets
END:VEVENT
BEGIN:VEVENT
DTSTART;TZID=America/Los_Angeles:20241010T163000
DTEND;TZID=America/Los_Angeles:20241010T163000
DTSTAMP:20260424T162431
CREATED:20240902T235553Z
LAST-MODIFIED:20240912T224617Z
UID:10014843-1728577800-1728577800@www.mountmadonnaschool.org
SUMMARY:Middle School Cross Country Meet
DESCRIPTION:Middle School Cross Country Meet (Tentative – Siubject to change) – Thur. 10/10ÑMission Springs @ 4:30 (Scotts Valley)
URL:https://www.mountmadonnaschool.org/event-archive-single/middle-school-cross-country-meet-tentative-5/
CATEGORIES:althetics,Middle School,MS Cross Country Meets
END:VEVENT
BEGIN:VEVENT
DTSTART;TZID=America/Los_Angeles:20241010T164500
DTEND;TZID=America/Los_Angeles:20241010T164500
DTSTAMP:20260424T162431
CREATED:20240911T174500Z
LAST-MODIFIED:20240911T174500Z
UID:10014973-1728578700-1728578700@www.mountmadonnaschool.org
SUMMARY:Game: MS Coed Flag Football
DESCRIPTION:
URL:https://www.mountmadonnaschool.org/event-archive-single/game-ms-coed-flag-football-2/
CATEGORIES:althetics,Athletics,MS Flag Football Games
END:VEVENT
BEGIN:VEVENT
DTSTART;TZID=America/Los_Angeles:20241010T170000
DTEND;TZID=America/Los_Angeles:20241010T170000
DTSTAMP:20260424T162432
CREATED:20240806T161717Z
LAST-MODIFIED:20241008T194139Z
UID:10014668-1728579600-1728579600@www.mountmadonnaschool.org
SUMMARY:Girls Volleyball - Match
DESCRIPTION:Girls Volleyball Match – HOME | Opponent: Pajaro Valley\nJV – start at 5:00\nVarsity – start at 6:30
URL:https://www.mountmadonnaschool.org/event-archive-single/girls-volleyball-match-19/
CATEGORIES:Athletics,HS Volleyball Games
END:VEVENT
END:VCALENDAR