BEGIN:VCALENDAR
VERSION:2.0
PRODID:-//Mount Madonna School - ECPv6.15.10//NONSGML v1.0//EN
CALSCALE:GREGORIAN
METHOD:PUBLISH
X-ORIGINAL-URL:https://www.mountmadonnaschool.org
X-WR-CALDESC:Events for Mount Madonna School
REFRESH-INTERVAL;VALUE=DURATION:PT1H
X-Robots-Tag:noindex
X-PUBLISHED-TTL:PT1H
BEGIN:VTIMEZONE
TZID:America/Los_Angeles
BEGIN:DAYLIGHT
TZOFFSETFROM:-0800
TZOFFSETTO:-0700
TZNAME:PDT
DTSTART:20230312T100000
END:DAYLIGHT
BEGIN:STANDARD
TZOFFSETFROM:-0700
TZOFFSETTO:-0800
TZNAME:PST
DTSTART:20231105T090000
END:STANDARD
BEGIN:DAYLIGHT
TZOFFSETFROM:-0800
TZOFFSETTO:-0700
TZNAME:PDT
DTSTART:20240310T100000
END:DAYLIGHT
BEGIN:STANDARD
TZOFFSETFROM:-0700
TZOFFSETTO:-0800
TZNAME:PST
DTSTART:20241103T090000
END:STANDARD
BEGIN:DAYLIGHT
TZOFFSETFROM:-0800
TZOFFSETTO:-0700
TZNAME:PDT
DTSTART:20250309T100000
END:DAYLIGHT
BEGIN:STANDARD
TZOFFSETFROM:-0700
TZOFFSETTO:-0800
TZNAME:PST
DTSTART:20251102T090000
END:STANDARD
END:VTIMEZONE
BEGIN:VEVENT
DTSTART;VALUE=DATE:20241009
DTEND;VALUE=DATE:20241010
DTSTAMP:20260424T180052
CREATED:20241001T183028Z
LAST-MODIFIED:20241008T210347Z
UID:10014997-1728432000-1728518399@www.mountmadonnaschool.org
SUMMARY:Lunch: An Impossible Non-Meat Loaf
DESCRIPTION:
URL:https://www.mountmadonnaschool.org/event-archive-single/lunch-mycelium-mushroom-loaf/
CATEGORIES:Lunch
END:VEVENT
BEGIN:VEVENT
DTSTART;TZID=America/Los_Angeles:20241009T170000
DTEND;TZID=America/Los_Angeles:20241009T170000
DTSTAMP:20260424T180052
CREATED:20240806T161646Z
LAST-MODIFIED:20241008T194022Z
UID:10014660-1728493200-1728493200@www.mountmadonnaschool.org
SUMMARY:Girls Volleyball - Match
DESCRIPTION:Girls Volleyball Match – AWAY | Opponent: Scotts Valley\nJV – start at 5:00\nVarsity – start at 6:30
URL:https://www.mountmadonnaschool.org/event-archive-single/girls-volleyball-match-16/
CATEGORIES:Athletics,HS Volleyball Games
END:VEVENT
END:VCALENDAR