BEGIN:VCALENDAR
VERSION:2.0
PRODID:-//Mount Madonna School - ECPv6.15.10//NONSGML v1.0//EN
CALSCALE:GREGORIAN
METHOD:PUBLISH
X-WR-CALNAME:Mount Madonna School
X-ORIGINAL-URL:https://www.mountmadonnaschool.org
X-WR-CALDESC:Events for Mount Madonna School
REFRESH-INTERVAL;VALUE=DURATION:PT1H
X-Robots-Tag:noindex
X-PUBLISHED-TTL:PT1H
BEGIN:VTIMEZONE
TZID:America/Los_Angeles
BEGIN:DAYLIGHT
TZOFFSETFROM:-0800
TZOFFSETTO:-0700
TZNAME:PDT
DTSTART:20230312T100000
END:DAYLIGHT
BEGIN:STANDARD
TZOFFSETFROM:-0700
TZOFFSETTO:-0800
TZNAME:PST
DTSTART:20231105T090000
END:STANDARD
BEGIN:DAYLIGHT
TZOFFSETFROM:-0800
TZOFFSETTO:-0700
TZNAME:PDT
DTSTART:20240310T100000
END:DAYLIGHT
BEGIN:STANDARD
TZOFFSETFROM:-0700
TZOFFSETTO:-0800
TZNAME:PST
DTSTART:20241103T090000
END:STANDARD
BEGIN:DAYLIGHT
TZOFFSETFROM:-0800
TZOFFSETTO:-0700
TZNAME:PDT
DTSTART:20250309T100000
END:DAYLIGHT
BEGIN:STANDARD
TZOFFSETFROM:-0700
TZOFFSETTO:-0800
TZNAME:PST
DTSTART:20251102T090000
END:STANDARD
END:VTIMEZONE
BEGIN:VEVENT
DTSTART;VALUE=DATE:20241008
DTEND;VALUE=DATE:20241009
DTSTAMP:20260424T192829
CREATED:20241001T183028Z
LAST-MODIFIED:20241001T184221Z
UID:10014996-1728345600-1728431999@www.mountmadonnaschool.org
SUMMARY:Lunch: Apple & Cheese Panini
DESCRIPTION:
URL:https://www.mountmadonnaschool.org/event-archive-single/lunch-apple-cheese-panini/
CATEGORIES:Lunch
END:VEVENT
BEGIN:VEVENT
DTSTART;TZID=America/Los_Angeles:20241008T080000
DTEND;TZID=America/Los_Angeles:20241008T080000
DTSTAMP:20260424T192829
CREATED:20240902T235535Z
LAST-MODIFIED:20240902T235723Z
UID:10014836-1728374400-1728374400@www.mountmadonnaschool.org
SUMMARY:Middle School Cross Country Practice
DESCRIPTION:Middle School Cross Country Practice – Transportation provided from 5mile @ 7:30 (by Nicole Silva) & Fortinos @ 7:40 (by Kami Pacheco ) to Mount Madonna School.
URL:https://www.mountmadonnaschool.org/event-archive-single/middle-school-cross-country-practice-5/
CATEGORIES:althetics,Middle School
END:VEVENT
BEGIN:VEVENT
DTSTART;TZID=America/Los_Angeles:20241008T153000
DTEND;TZID=America/Los_Angeles:20241008T153000
DTSTAMP:20260424T192829
CREATED:20240806T205013Z
LAST-MODIFIED:20240806T205013Z
UID:10014705-1728401400-1728401400@www.mountmadonnaschool.org
SUMMARY:Cross Country - Practice
DESCRIPTION:
URL:https://www.mountmadonnaschool.org/event-archive-single/cross-country-practice-31/
CATEGORIES:althetics,HS Cross Country Meets,MS Cross Country Meets
END:VEVENT
BEGIN:VEVENT
DTSTART;TZID=America/Los_Angeles:20241008T170000
DTEND;TZID=America/Los_Angeles:20241008T170000
DTSTAMP:20260424T192829
CREATED:20240806T161733Z
LAST-MODIFIED:20241008T193528Z
UID:10014674-1728406800-1728406800@www.mountmadonnaschool.org
SUMMARY:Girls Volleyball - Match
DESCRIPTION:Girls Volleyball Match – HOME | Opponent: SLV\nJV – start at 5:00\nVarsity – start at 6:30
URL:https://www.mountmadonnaschool.org/event-archive-single/girls-volleyball-match-22/
CATEGORIES:Athletics,HS Volleyball Games
END:VEVENT
END:VCALENDAR