BEGIN:VCALENDAR
VERSION:2.0
PRODID:-//Mount Madonna School - ECPv6.15.10//NONSGML v1.0//EN
CALSCALE:GREGORIAN
METHOD:PUBLISH
X-ORIGINAL-URL:https://www.mountmadonnaschool.org
X-WR-CALDESC:Events for Mount Madonna School
REFRESH-INTERVAL;VALUE=DURATION:PT1H
X-Robots-Tag:noindex
X-PUBLISHED-TTL:PT1H
BEGIN:VTIMEZONE
TZID:America/Los_Angeles
BEGIN:DAYLIGHT
TZOFFSETFROM:-0800
TZOFFSETTO:-0700
TZNAME:PDT
DTSTART:20230312T100000
END:DAYLIGHT
BEGIN:STANDARD
TZOFFSETFROM:-0700
TZOFFSETTO:-0800
TZNAME:PST
DTSTART:20231105T090000
END:STANDARD
BEGIN:DAYLIGHT
TZOFFSETFROM:-0800
TZOFFSETTO:-0700
TZNAME:PDT
DTSTART:20240310T100000
END:DAYLIGHT
BEGIN:STANDARD
TZOFFSETFROM:-0700
TZOFFSETTO:-0800
TZNAME:PST
DTSTART:20241103T090000
END:STANDARD
BEGIN:DAYLIGHT
TZOFFSETFROM:-0800
TZOFFSETTO:-0700
TZNAME:PDT
DTSTART:20250309T100000
END:DAYLIGHT
BEGIN:STANDARD
TZOFFSETFROM:-0700
TZOFFSETTO:-0800
TZNAME:PST
DTSTART:20251102T090000
END:STANDARD
END:VTIMEZONE
BEGIN:VEVENT
DTSTART;VALUE=DATE:20240531
DTEND;VALUE=DATE:20240601
DTSTAMP:20260419T154925
CREATED:20230922T211744Z
LAST-MODIFIED:20240408T235026Z
UID:10013962-1717113600-1717199999@www.mountmadonnaschool.org
SUMMARY:1st -5th Moving up Ceremonies and Awards
DESCRIPTION:
URL:https://www.mountmadonnaschool.org/event-archive-single/1st-5th-moving-up-ceremonies-and-awards/
CATEGORIES:Elementary,Featured Events
END:VEVENT
BEGIN:VEVENT
DTSTART;VALUE=DATE:20240531
DTEND;VALUE=DATE:20240601
DTSTAMP:20260419T154925
CREATED:20230922T212057Z
LAST-MODIFIED:20230922T212057Z
UID:10013963-1717113600-1717199999@www.mountmadonnaschool.org
SUMMARY:Last day of School for Kindergarten - 5th Grade
DESCRIPTION:
URL:https://www.mountmadonnaschool.org/event-archive-single/last-day-of-school-for-kindergarten-5th-grade/
CATEGORIES:Elementary,Kindergarten
END:VEVENT
BEGIN:VEVENT
DTSTART;TZID=America/Los_Angeles:20240531T100000
DTEND;TZID=America/Los_Angeles:20240531T100000
DTSTAMP:20260419T154925
CREATED:20230516T174708Z
LAST-MODIFIED:20240408T235049Z
UID:10013758-1717149600-1717149600@www.mountmadonnaschool.org
SUMMARY:Moving Up Ceremony Kindergarten
DESCRIPTION:
URL:https://www.mountmadonnaschool.org/event-archive-single/moving-up-ceremony-kindergarten/
CATEGORIES:Featured Events,Kindergarten,Special Assembly
END:VEVENT
BEGIN:VEVENT
DTSTART;TZID=America/Los_Angeles:20240531T130000
DTEND;TZID=America/Los_Angeles:20240531T130000
DTSTAMP:20260419T154925
CREATED:20230516T174843Z
LAST-MODIFIED:20230522T182730Z
UID:10013759-1717160400-1717160400@www.mountmadonnaschool.org
SUMMARY:Moving Up Ceremony: Fifth Grade
DESCRIPTION:
URL:https://www.mountmadonnaschool.org/event-archive-single/moving-up-ceremony-fifth-grade-2/
CATEGORIES:Elementary,Special Assembly
END:VEVENT
END:VCALENDAR