BEGIN:VCALENDAR
VERSION:2.0
PRODID:-//Mount Madonna School - ECPv6.15.10//NONSGML v1.0//EN
CALSCALE:GREGORIAN
METHOD:PUBLISH
X-ORIGINAL-URL:https://www.mountmadonnaschool.org
X-WR-CALDESC:Events for Mount Madonna School
REFRESH-INTERVAL;VALUE=DURATION:PT1H
X-Robots-Tag:noindex
X-PUBLISHED-TTL:PT1H
BEGIN:VTIMEZONE
TZID:America/Los_Angeles
BEGIN:DAYLIGHT
TZOFFSETFROM:-0800
TZOFFSETTO:-0700
TZNAME:PDT
DTSTART:20230312T100000
END:DAYLIGHT
BEGIN:STANDARD
TZOFFSETFROM:-0700
TZOFFSETTO:-0800
TZNAME:PST
DTSTART:20231105T090000
END:STANDARD
BEGIN:DAYLIGHT
TZOFFSETFROM:-0800
TZOFFSETTO:-0700
TZNAME:PDT
DTSTART:20240310T100000
END:DAYLIGHT
BEGIN:STANDARD
TZOFFSETFROM:-0700
TZOFFSETTO:-0800
TZNAME:PST
DTSTART:20241103T090000
END:STANDARD
BEGIN:DAYLIGHT
TZOFFSETFROM:-0800
TZOFFSETTO:-0700
TZNAME:PDT
DTSTART:20250309T100000
END:DAYLIGHT
BEGIN:STANDARD
TZOFFSETFROM:-0700
TZOFFSETTO:-0800
TZNAME:PST
DTSTART:20251102T090000
END:STANDARD
END:VTIMEZONE
BEGIN:VEVENT
DTSTART;TZID=America/Los_Angeles:20240516T074500
DTEND;TZID=America/Los_Angeles:20240516T090000
DTSTAMP:20260422T151953
CREATED:20240108T194208Z
LAST-MODIFIED:20240205T184954Z
UID:10014194-1715845500-1715850000@www.mountmadonnaschool.org
SUMMARY:HS Track Practice @ Upper Gym Weight training
DESCRIPTION:
URL:https://www.mountmadonnaschool.org/event-archive-single/track-practice-upper-gym-weight-training/2024-05-16/
CATEGORIES:Athletics,High School
END:VEVENT
BEGIN:VEVENT
DTSTART;TZID=America/Los_Angeles:20240516T080000
DTEND;TZID=America/Los_Angeles:20240516T080000
DTSTAMP:20260422T151953
CREATED:20230712T215427Z
LAST-MODIFIED:20230718T210238Z
UID:10011077-1715846400-1715846400@www.mountmadonnaschool.org
SUMMARY:AP Spanish Language and Culture
DESCRIPTION:Please arrive at the testing location by 7:45 am. Testing begins at 8 am sharp. We cannot allow anyone to enter the testing room once we have begun. \n\n\n\nYou should receive emails from The College Board reminding you to review the Exam Terms and Conditions before the exam. On the exam day you will acknowledge that you’ve read the AP Exam Terms and Conditions. It is also recommended that you review What to Bring on Exam Day in advance of the exam.
URL:https://www.mountmadonnaschool.org/event-archive-single/ap-physics-c-mechanics-3/
CATEGORIES:Academics,High School,Testing
END:VEVENT
BEGIN:VEVENT
DTSTART;TZID=America/Los_Angeles:20240516T153000
DTEND;TZID=America/Los_Angeles:20240516T173000
DTSTAMP:20260422T151953
CREATED:20240328T214433Z
LAST-MODIFIED:20240417T175917Z
UID:10014380-1715873400-1715880600@www.mountmadonnaschool.org
SUMMARY:MS Boys Volleyball  Practice
DESCRIPTION:
URL:https://www.mountmadonnaschool.org/event-archive-single/ms-boys-volleyball-practice-12-2024-04-17/2024-05-16/
CATEGORIES:Athletics,Middle School
END:VEVENT
END:VCALENDAR