BEGIN:VCALENDAR
VERSION:2.0
PRODID:-//Mount Madonna School - ECPv6.15.10//NONSGML v1.0//EN
CALSCALE:GREGORIAN
METHOD:PUBLISH
X-WR-CALNAME:Mount Madonna School
X-ORIGINAL-URL:https://www.mountmadonnaschool.org
X-WR-CALDESC:Events for Mount Madonna School
REFRESH-INTERVAL;VALUE=DURATION:PT1H
X-Robots-Tag:noindex
X-PUBLISHED-TTL:PT1H
BEGIN:VTIMEZONE
TZID:America/Los_Angeles
BEGIN:DAYLIGHT
TZOFFSETFROM:-0800
TZOFFSETTO:-0700
TZNAME:PDT
DTSTART:20230312T100000
END:DAYLIGHT
BEGIN:STANDARD
TZOFFSETFROM:-0700
TZOFFSETTO:-0800
TZNAME:PST
DTSTART:20231105T090000
END:STANDARD
BEGIN:DAYLIGHT
TZOFFSETFROM:-0800
TZOFFSETTO:-0700
TZNAME:PDT
DTSTART:20240310T100000
END:DAYLIGHT
BEGIN:STANDARD
TZOFFSETFROM:-0700
TZOFFSETTO:-0800
TZNAME:PST
DTSTART:20241103T090000
END:STANDARD
BEGIN:DAYLIGHT
TZOFFSETFROM:-0800
TZOFFSETTO:-0700
TZNAME:PDT
DTSTART:20250309T100000
END:DAYLIGHT
BEGIN:STANDARD
TZOFFSETFROM:-0700
TZOFFSETTO:-0800
TZNAME:PST
DTSTART:20251102T090000
END:STANDARD
END:VTIMEZONE
BEGIN:VEVENT
DTSTART;TZID=America/Los_Angeles:20240513T080000
DTEND;TZID=America/Los_Angeles:20240513T080000
DTSTAMP:20260422T195911
CREATED:20230712T215125Z
LAST-MODIFIED:20230712T215125Z
UID:10011070-1715587200-1715587200@www.mountmadonnaschool.org
SUMMARY:AP Exam: Calculus AB AP Exam: Calculus BC
DESCRIPTION:Please arrive at the testing location by 7:45 am. Testing begins at 8 am sharp. We cannot allow anyone to enter the testing room once we have begun. \n\n\nYou should receive emails from The College Board reminding you to review the Exam Terms and Conditions before the exam. On the exam day you will acknowledge that you’ve read the AP Exam Terms and Conditions. It is also recommended that you review What to Bring on Exam Day in advance of the exam.
URL:https://www.mountmadonnaschool.org/event-archive-single/ap-exam-calculus-ab-ap-exam-calculus-bc/
CATEGORIES:Academics,High School,Testing
END:VEVENT
BEGIN:VEVENT
DTSTART;TZID=America/Los_Angeles:20240513T153000
DTEND;TZID=America/Los_Angeles:20240513T173000
DTSTAMP:20260422T195911
CREATED:20190822T211118Z
LAST-MODIFIED:20190822T211310Z
UID:10011997-1715614200-1715621400@www.mountmadonnaschool.org
SUMMARY:HSGVB JV & Varsity Practice
DESCRIPTION:
URL:https://www.mountmadonnaschool.org/event-archive-single/hsgvb-jv-varsity-practice-8/2024-05-13/
LOCATION:Mount Madonna School Hawks Nest Gymnasium\, 491 Summit Road\, Watsonville\, CA\, 95076\, United States
CATEGORIES:Athletics,High School
GEO:37.0287895;-121.7424293
X-APPLE-STRUCTURED-LOCATION;VALUE=URI;X-ADDRESS=Mount Madonna School Hawks Nest Gymnasium 491 Summit Road Watsonville CA 95076 United States;X-APPLE-RADIUS=500;X-TITLE=491 Summit Road:geo:-121.7424293,37.0287895
END:VEVENT
END:VCALENDAR