BEGIN:VCALENDAR
VERSION:2.0
PRODID:-//Mount Madonna School - ECPv6.15.10//NONSGML v1.0//EN
CALSCALE:GREGORIAN
METHOD:PUBLISH
X-ORIGINAL-URL:https://www.mountmadonnaschool.org
X-WR-CALDESC:Events for Mount Madonna School
REFRESH-INTERVAL;VALUE=DURATION:PT1H
X-Robots-Tag:noindex
X-PUBLISHED-TTL:PT1H
BEGIN:VTIMEZONE
TZID:America/Los_Angeles
BEGIN:DAYLIGHT
TZOFFSETFROM:-0800
TZOFFSETTO:-0700
TZNAME:PDT
DTSTART:20230312T100000
END:DAYLIGHT
BEGIN:STANDARD
TZOFFSETFROM:-0700
TZOFFSETTO:-0800
TZNAME:PST
DTSTART:20231105T090000
END:STANDARD
BEGIN:DAYLIGHT
TZOFFSETFROM:-0800
TZOFFSETTO:-0700
TZNAME:PDT
DTSTART:20240310T100000
END:DAYLIGHT
BEGIN:STANDARD
TZOFFSETFROM:-0700
TZOFFSETTO:-0800
TZNAME:PST
DTSTART:20241103T090000
END:STANDARD
BEGIN:DAYLIGHT
TZOFFSETFROM:-0800
TZOFFSETTO:-0700
TZNAME:PDT
DTSTART:20250309T100000
END:DAYLIGHT
BEGIN:STANDARD
TZOFFSETFROM:-0700
TZOFFSETTO:-0800
TZNAME:PST
DTSTART:20251102T090000
END:STANDARD
END:VTIMEZONE
BEGIN:VEVENT
DTSTART;TZID=America/Los_Angeles:20240502T074500
DTEND;TZID=America/Los_Angeles:20240502T090000
DTSTAMP:20260423T130432
CREATED:20240108T194208Z
LAST-MODIFIED:20240205T184954Z
UID:10014190-1714635900-1714640400@www.mountmadonnaschool.org
SUMMARY:HS Track Practice @ Upper Gym Weight training
DESCRIPTION:
URL:https://www.mountmadonnaschool.org/event-archive-single/track-practice-upper-gym-weight-training/2024-05-02/
CATEGORIES:Athletics,High School
END:VEVENT
BEGIN:VEVENT
DTSTART;TZID=America/Los_Angeles:20240502T110000
DTEND;TZID=America/Los_Angeles:20240502T140000
DTSTAMP:20260423T130432
CREATED:20240426T165125Z
LAST-MODIFIED:20240426T165125Z
UID:10014431-1714647600-1714658400@www.mountmadonnaschool.org
SUMMARY:Mello Center field trip 1st - 5th grade
DESCRIPTION:
URL:https://www.mountmadonnaschool.org/event-archive-single/mello-center-field-trip-1st-5th-grade/
CATEGORIES:Elementary,Field Trips
END:VEVENT
BEGIN:VEVENT
DTSTART;TZID=America/Los_Angeles:20240502T153000
DTEND;TZID=America/Los_Angeles:20240502T173000
DTSTAMP:20260423T130432
CREATED:20240328T214433Z
LAST-MODIFIED:20240417T175917Z
UID:10014374-1714663800-1714671000@www.mountmadonnaschool.org
SUMMARY:MS Boys Volleyball  Practice
DESCRIPTION:
URL:https://www.mountmadonnaschool.org/event-archive-single/ms-boys-volleyball-practice-12-2024-04-17/2024-05-02/
CATEGORIES:Athletics,Middle School
END:VEVENT
BEGIN:VEVENT
DTSTART;TZID=America/Los_Angeles:20240502T160000
DTEND;TZID=America/Los_Angeles:20240502T170000
DTSTAMP:20260423T130432
CREATED:20240104T223517Z
LAST-MODIFIED:20240205T183643Z
UID:10014154-1714665600-1714669200@www.mountmadonnaschool.org
SUMMARY:HS Track Practice@ PV High
DESCRIPTION:4pm @ PV High track \n500 Harkins Slough Rd\, Watsonville
URL:https://www.mountmadonnaschool.org/event-archive-single/hs-track-practice-2/2024-05-02/
CATEGORIES:Athletics,High School
END:VEVENT
BEGIN:VEVENT
DTSTART;TZID=America/Los_Angeles:20240502T160000
DTEND;TZID=America/Los_Angeles:20240502T170000
DTSTAMP:20260423T130432
CREATED:20240108T213409Z
LAST-MODIFIED:20240205T185711Z
UID:10011279-1714665600-1714669200@www.mountmadonnaschool.org
SUMMARY:HS Track -SCCAL Trials & Finals @ Soquel High
DESCRIPTION:SCCAL Trials & Finals @ Soquel High
URL:https://www.mountmadonnaschool.org/event-archive-single/track-sccal-trials-finals-soquel-high/2024-05-02/
CATEGORIES:Athletics,High School,HS Track & Field Meets
END:VEVENT
BEGIN:VEVENT
DTSTART;TZID=America/Los_Angeles:20240502T160000
DTEND;TZID=America/Los_Angeles:20240502T170000
DTSTAMP:20260423T130432
CREATED:20240328T213959Z
LAST-MODIFIED:20240415T192655Z
UID:10014359-1714665600-1714669200@www.mountmadonnaschool.org
SUMMARY:Middle School Track and Field Meet
DESCRIPTION:All meets are at Harbor High School. 
URL:https://www.mountmadonnaschool.org/event-archive-single/middle-school-track-and-field-meet/2024-05-02/
LOCATION:Harbor HS\, 300 La Fonda Ave\, Santa Cruz\, CA\, 95062
CATEGORIES:Athletics,HS Track & Field Meets,Middle School,MS Track & Field Meets
GEO:36.9862029;-121.9935822
X-APPLE-STRUCTURED-LOCATION;VALUE=URI;X-ADDRESS=Harbor HS 300 La Fonda Ave Santa Cruz CA 95062;X-APPLE-RADIUS=500;X-TITLE=300 La Fonda Ave:geo:-121.9935822,36.9862029
END:VEVENT
END:VCALENDAR