BEGIN:VCALENDAR
VERSION:2.0
PRODID:-//Mount Madonna School - ECPv6.15.10//NONSGML v1.0//EN
CALSCALE:GREGORIAN
METHOD:PUBLISH
X-WR-CALNAME:Mount Madonna School
X-ORIGINAL-URL:https://www.mountmadonnaschool.org
X-WR-CALDESC:Events for Mount Madonna School
REFRESH-INTERVAL;VALUE=DURATION:PT1H
X-Robots-Tag:noindex
X-PUBLISHED-TTL:PT1H
BEGIN:VTIMEZONE
TZID:America/Los_Angeles
BEGIN:DAYLIGHT
TZOFFSETFROM:-0800
TZOFFSETTO:-0700
TZNAME:PDT
DTSTART:20230312T100000
END:DAYLIGHT
BEGIN:STANDARD
TZOFFSETFROM:-0700
TZOFFSETTO:-0800
TZNAME:PST
DTSTART:20231105T090000
END:STANDARD
BEGIN:DAYLIGHT
TZOFFSETFROM:-0800
TZOFFSETTO:-0700
TZNAME:PDT
DTSTART:20240310T100000
END:DAYLIGHT
BEGIN:STANDARD
TZOFFSETFROM:-0700
TZOFFSETTO:-0800
TZNAME:PST
DTSTART:20241103T090000
END:STANDARD
BEGIN:DAYLIGHT
TZOFFSETFROM:-0800
TZOFFSETTO:-0700
TZNAME:PDT
DTSTART:20250309T100000
END:DAYLIGHT
BEGIN:STANDARD
TZOFFSETFROM:-0700
TZOFFSETTO:-0800
TZNAME:PST
DTSTART:20251102T090000
END:STANDARD
END:VTIMEZONE
BEGIN:VEVENT
DTSTART;VALUE=DATE:20240420
DTEND;VALUE=DATE:20240428
DTSTAMP:20260424T024855
CREATED:20230921T171339Z
LAST-MODIFIED:20231116T184421Z
UID:10011167-1713571200-1714262399@www.mountmadonnaschool.org
SUMMARY:11th Grade Washington\, D.C. Learning Journey
DESCRIPTION:
URL:https://www.mountmadonnaschool.org/event-archive-single/washington-d-c-learning-journey-april-20-27/
CATEGORIES:High School,Learning Journeys,Values
END:VEVENT
BEGIN:VEVENT
DTSTART;VALUE=DATE:20240421
DTEND;VALUE=DATE:20240427
DTSTAMP:20260424T024855
CREATED:20230922T205800Z
LAST-MODIFIED:20230922T205918Z
UID:10013960-1713657600-1714175999@www.mountmadonnaschool.org
SUMMARY:8th Grade Boston Learning Journey
DESCRIPTION:
URL:https://www.mountmadonnaschool.org/event-archive-single/8th-grade-boston-learning-journey/
CATEGORIES:Field Trips,Middle School
END:VEVENT
BEGIN:VEVENT
DTSTART;VALUE=DATE:20240422
DTEND;VALUE=DATE:20240427
DTSTAMP:20260424T024855
CREATED:20230922T205515Z
LAST-MODIFIED:20230922T205515Z
UID:10013958-1713744000-1714175999@www.mountmadonnaschool.org
SUMMARY:10th Grade Trip to Catalina
DESCRIPTION:
URL:https://www.mountmadonnaschool.org/event-archive-single/10th-grade-trip-to-catalina-3/
CATEGORIES:Field Trips,High School
END:VEVENT
BEGIN:VEVENT
DTSTART;VALUE=DATE:20240422
DTEND;VALUE=DATE:20240427
DTSTAMP:20260424T024855
CREATED:20230922T205644Z
LAST-MODIFIED:20230922T205644Z
UID:10013959-1713744000-1714175999@www.mountmadonnaschool.org
SUMMARY:9th Grade Trip to Yosemite
DESCRIPTION:
URL:https://www.mountmadonnaschool.org/event-archive-single/9th-grade-trip-to-yosemite-3/
CATEGORIES:Field Trips,High School
END:VEVENT
BEGIN:VEVENT
DTSTART;VALUE=DATE:20240423
DTEND;VALUE=DATE:20240424
DTSTAMP:20260424T024855
CREATED:20240408T233623Z
LAST-MODIFIED:20241001T184223Z
UID:10014420-1713830400-1713916799@www.mountmadonnaschool.org
SUMMARY:Upper Campus Lunch: Grilled Cheese + Tomato Soup
DESCRIPTION:
URL:https://www.mountmadonnaschool.org/event-archive-single/upper-campus-lunch-grilled-cheese-tomato-soup-7/
CATEGORIES:Lunch,Upper Campus Lunch
END:VEVENT
BEGIN:VEVENT
DTSTART;TZID=America/Los_Angeles:20240423T074500
DTEND;TZID=America/Los_Angeles:20240423T084500
DTSTAMP:20260424T024855
CREATED:20240328T213017Z
LAST-MODIFIED:20240408T234707Z
UID:10014346-1713858300-1713861900@www.mountmadonnaschool.org
SUMMARY:Middle School Track and Field
DESCRIPTION:Tues. 7:45-8:45 am (with HS track) at Mount Madonna School
URL:https://www.mountmadonnaschool.org/event-archive-single/middle-school-track-and-field/2024-04-23/
CATEGORIES:Athletics,Middle School
END:VEVENT
BEGIN:VEVENT
DTSTART;TZID=America/Los_Angeles:20240423T074500
DTEND;TZID=America/Los_Angeles:20240423T090000
DTSTAMP:20260424T024855
CREATED:20240108T194208Z
LAST-MODIFIED:20240205T184954Z
UID:10014187-1713858300-1713862800@www.mountmadonnaschool.org
SUMMARY:HS Track Practice @ Upper Gym Weight training
DESCRIPTION:
URL:https://www.mountmadonnaschool.org/event-archive-single/track-practice-upper-gym-weight-training/2024-04-23/
CATEGORIES:Athletics,High School
END:VEVENT
BEGIN:VEVENT
DTSTART;TZID=America/Los_Angeles:20240423T140000
DTEND;TZID=America/Los_Angeles:20240423T150000
DTSTAMP:20260424T024855
CREATED:20230928T220658Z
LAST-MODIFIED:20231002T211425Z
UID:10014031-1713880800-1713884400@www.mountmadonnaschool.org
SUMMARY:Tuesday Tours
DESCRIPTION:Embark on an inspiring journey at Mount Madonna School every Tuesday afternoon from 2:00 PM to 3:00 PM! \nRSVP HERE \nJoin us for a group tour that offers a unique opportunity to explore our picturesque campus\, immerse yourself in the vibrant energy of our classrooms in action\, and connect with the heart of our community. \nAs you stroll through our beautiful grounds\, you’ll witness the magic of education coming to life. Experience firsthand the dynamic learning environments where our dedicated teachers ignite the spark of curiosity in our students. Gain valuable insights into our innovative curriculum and teaching methodologies that empower young minds to thrive. \nOur tours are a chance to engage with the very heartbeat of Mount Madonna School. You’ll have the privilege to meet some of our passionate educators\, administrators\, and enthusiastic students. Ask questions\, share your aspirations\, and forge connections that extend beyond the tour. \nDiscover why Mount Madonna School is a place where intellectual curiosity\, creativity\, and a deep sense of community converge. Whether you’re a prospective student\, a parent\, or simply curious about what makes our educational experience extraordinary\, our Tuesday afternoon tours are your gateway to an educational adventure like no other. \nJoin us and let your journey of exploration begin. We can’t wait to welcome you to the Mount Madonna School community! \nRSVP FOR AN UPCOMING TUESDAY TOUR
URL:https://www.mountmadonnaschool.org/event-archive-single/tuesday-tours-3/2024-04-23/
LOCATION:Mount Madonna School Upper Campus\, 491 Summit Road\, Watsonville\, CA\, 95076\, United States
CATEGORIES:Admissions
ATTACH;FMTTYPE=image/jpeg:https://www.mountmadonnaschool.org/wp-content/uploads/2020/10/122323354_4076545762362591_2103986864825185496_o.jpg
ORGANIZER;CN="Linda Manzur":MAILTO:Linda.Manzur@mountmadonna.org
GEO:37.030209;-121.746526
X-APPLE-STRUCTURED-LOCATION;VALUE=URI;X-ADDRESS=Mount Madonna School Upper Campus 491 Summit Road Watsonville CA 95076 United States;X-APPLE-RADIUS=500;X-TITLE=491 Summit Road:geo:-121.746526,37.030209
END:VEVENT
BEGIN:VEVENT
DTSTART;TZID=America/Los_Angeles:20240423T153000
DTEND;TZID=America/Los_Angeles:20240423T173000
DTSTAMP:20260424T024855
CREATED:20240328T214433Z
LAST-MODIFIED:20240417T175917Z
UID:10014369-1713886200-1713893400@www.mountmadonnaschool.org
SUMMARY:MS Boys Volleyball  Practice
DESCRIPTION:
URL:https://www.mountmadonnaschool.org/event-archive-single/ms-boys-volleyball-practice-12-2024-04-17/2024-04-23/
CATEGORIES:Athletics,Middle School
END:VEVENT
BEGIN:VEVENT
DTSTART;TZID=America/Los_Angeles:20240423T160000
DTEND;TZID=America/Los_Angeles:20240423T170000
DTSTAMP:20260424T024855
CREATED:20240104T223517Z
LAST-MODIFIED:20240205T183643Z
UID:10014151-1713888000-1713891600@www.mountmadonnaschool.org
SUMMARY:HS Track Practice@ PV High
DESCRIPTION:4pm @ PV High track \n500 Harkins Slough Rd\, Watsonville
URL:https://www.mountmadonnaschool.org/event-archive-single/hs-track-practice-2/2024-04-23/
CATEGORIES:Athletics,High School
END:VEVENT
BEGIN:VEVENT
DTSTART;TZID=America/Los_Angeles:20240423T160000
DTEND;TZID=America/Los_Angeles:20240423T170000
DTSTAMP:20260424T024855
CREATED:20240131T190037Z
LAST-MODIFIED:20240205T182654Z
UID:10011338-1713888000-1713891600@www.mountmadonnaschool.org
SUMMARY:HSBVB Game vs Harbor @ Harbor
DESCRIPTION:
URL:https://www.mountmadonnaschool.org/event-archive-single/boys-volleyball-game-habor-mms-vs-harbor/
LOCATION:Harbor HS\, 300 La Fonda Ave\, Santa Cruz\, CA\, 95062
CATEGORIES:Athletics,High School,HS Volleyball Games
GEO:36.9862029;-121.9935822
X-APPLE-STRUCTURED-LOCATION;VALUE=URI;X-ADDRESS=Harbor HS 300 La Fonda Ave Santa Cruz CA 95062;X-APPLE-RADIUS=500;X-TITLE=300 La Fonda Ave:geo:-121.9935822,36.9862029
END:VEVENT
END:VCALENDAR