BEGIN:VCALENDAR
VERSION:2.0
PRODID:-//Mount Madonna School - ECPv6.15.10//NONSGML v1.0//EN
CALSCALE:GREGORIAN
METHOD:PUBLISH
X-WR-CALNAME:Mount Madonna School
X-ORIGINAL-URL:https://www.mountmadonnaschool.org
X-WR-CALDESC:Events for Mount Madonna School
REFRESH-INTERVAL;VALUE=DURATION:PT1H
X-Robots-Tag:noindex
X-PUBLISHED-TTL:PT1H
BEGIN:VTIMEZONE
TZID:America/Los_Angeles
BEGIN:DAYLIGHT
TZOFFSETFROM:-0800
TZOFFSETTO:-0700
TZNAME:PDT
DTSTART:20230312T100000
END:DAYLIGHT
BEGIN:STANDARD
TZOFFSETFROM:-0700
TZOFFSETTO:-0800
TZNAME:PST
DTSTART:20231105T090000
END:STANDARD
BEGIN:DAYLIGHT
TZOFFSETFROM:-0800
TZOFFSETTO:-0700
TZNAME:PDT
DTSTART:20240310T100000
END:DAYLIGHT
BEGIN:STANDARD
TZOFFSETFROM:-0700
TZOFFSETTO:-0800
TZNAME:PST
DTSTART:20241103T090000
END:STANDARD
BEGIN:DAYLIGHT
TZOFFSETFROM:-0800
TZOFFSETTO:-0700
TZNAME:PDT
DTSTART:20250309T100000
END:DAYLIGHT
BEGIN:STANDARD
TZOFFSETFROM:-0700
TZOFFSETTO:-0800
TZNAME:PST
DTSTART:20251102T090000
END:STANDARD
END:VTIMEZONE
BEGIN:VEVENT
DTSTART;VALUE=DATE:20240420
DTEND;VALUE=DATE:20240428
DTSTAMP:20260424T041617
CREATED:20230921T171339Z
LAST-MODIFIED:20231116T184421Z
UID:10011167-1713571200-1714262399@www.mountmadonnaschool.org
SUMMARY:11th Grade Washington\, D.C. Learning Journey
DESCRIPTION:
URL:https://www.mountmadonnaschool.org/event-archive-single/washington-d-c-learning-journey-april-20-27/
CATEGORIES:High School,Learning Journeys,Values
END:VEVENT
BEGIN:VEVENT
DTSTART;VALUE=DATE:20240421
DTEND;VALUE=DATE:20240427
DTSTAMP:20260424T041617
CREATED:20230922T205800Z
LAST-MODIFIED:20230922T205918Z
UID:10013960-1713657600-1714175999@www.mountmadonnaschool.org
SUMMARY:8th Grade Boston Learning Journey
DESCRIPTION:
URL:https://www.mountmadonnaschool.org/event-archive-single/8th-grade-boston-learning-journey/
CATEGORIES:Field Trips,Middle School
END:VEVENT
BEGIN:VEVENT
DTSTART;VALUE=DATE:20240422
DTEND;VALUE=DATE:20240423
DTSTAMP:20260424T041617
CREATED:20240408T233547Z
LAST-MODIFIED:20241001T184223Z
UID:10014419-1713744000-1713830399@www.mountmadonnaschool.org
SUMMARY:Upper Campus Lunch: Veggie Curry Rice Bowl
DESCRIPTION:
URL:https://www.mountmadonnaschool.org/event-archive-single/upper-campus-lunch-veggie-curry-rice-bowl-7/
CATEGORIES:Lunch,Upper Campus Lunch
END:VEVENT
BEGIN:VEVENT
DTSTART;VALUE=DATE:20240422
DTEND;VALUE=DATE:20240427
DTSTAMP:20260424T041617
CREATED:20230922T205515Z
LAST-MODIFIED:20230922T205515Z
UID:10013958-1713744000-1714175999@www.mountmadonnaschool.org
SUMMARY:10th Grade Trip to Catalina
DESCRIPTION:
URL:https://www.mountmadonnaschool.org/event-archive-single/10th-grade-trip-to-catalina-3/
CATEGORIES:Field Trips,High School
END:VEVENT
BEGIN:VEVENT
DTSTART;VALUE=DATE:20240422
DTEND;VALUE=DATE:20240427
DTSTAMP:20260424T041617
CREATED:20230922T205644Z
LAST-MODIFIED:20230922T205644Z
UID:10013959-1713744000-1714175999@www.mountmadonnaschool.org
SUMMARY:9th Grade Trip to Yosemite
DESCRIPTION:
URL:https://www.mountmadonnaschool.org/event-archive-single/9th-grade-trip-to-yosemite-3/
CATEGORIES:Field Trips,High School
END:VEVENT
BEGIN:VEVENT
DTSTART;TZID=America/Los_Angeles:20240422T153000
DTEND;TZID=America/Los_Angeles:20240422T173000
DTSTAMP:20260424T041617
CREATED:20190822T211118Z
LAST-MODIFIED:20190822T211310Z
UID:10011991-1713799800-1713807000@www.mountmadonnaschool.org
SUMMARY:HSGVB JV & Varsity Practice
DESCRIPTION:
URL:https://www.mountmadonnaschool.org/event-archive-single/hsgvb-jv-varsity-practice-8/2024-04-22/
LOCATION:Mount Madonna School Hawks Nest Gymnasium\, 491 Summit Road\, Watsonville\, CA\, 95076\, United States
CATEGORIES:Athletics,High School
GEO:37.0287895;-121.7424293
X-APPLE-STRUCTURED-LOCATION;VALUE=URI;X-ADDRESS=Mount Madonna School Hawks Nest Gymnasium 491 Summit Road Watsonville CA 95076 United States;X-APPLE-RADIUS=500;X-TITLE=491 Summit Road:geo:-121.7424293,37.0287895
END:VEVENT
BEGIN:VEVENT
DTSTART;TZID=America/Los_Angeles:20240422T160000
DTEND;TZID=America/Los_Angeles:20240422T170000
DTSTAMP:20260424T041617
CREATED:20240108T191404Z
LAST-MODIFIED:20240205T183610Z
UID:10014170-1713801600-1713805200@www.mountmadonnaschool.org
SUMMARY:HS Track Practice @ PV High
DESCRIPTION:
URL:https://www.mountmadonnaschool.org/event-archive-single/track-practice-pv-high/2024-04-22/
CATEGORIES:Athletics,High School
END:VEVENT
END:VCALENDAR