BEGIN:VCALENDAR
VERSION:2.0
PRODID:-//Mount Madonna School - ECPv6.15.10//NONSGML v1.0//EN
CALSCALE:GREGORIAN
METHOD:PUBLISH
X-ORIGINAL-URL:https://www.mountmadonnaschool.org
X-WR-CALDESC:Events for Mount Madonna School
REFRESH-INTERVAL;VALUE=DURATION:PT1H
X-Robots-Tag:noindex
X-PUBLISHED-TTL:PT1H
BEGIN:VTIMEZONE
TZID:America/Los_Angeles
BEGIN:DAYLIGHT
TZOFFSETFROM:-0800
TZOFFSETTO:-0700
TZNAME:PDT
DTSTART:20230312T100000
END:DAYLIGHT
BEGIN:STANDARD
TZOFFSETFROM:-0700
TZOFFSETTO:-0800
TZNAME:PST
DTSTART:20231105T090000
END:STANDARD
BEGIN:DAYLIGHT
TZOFFSETFROM:-0800
TZOFFSETTO:-0700
TZNAME:PDT
DTSTART:20240310T100000
END:DAYLIGHT
BEGIN:STANDARD
TZOFFSETFROM:-0700
TZOFFSETTO:-0800
TZNAME:PST
DTSTART:20241103T090000
END:STANDARD
BEGIN:DAYLIGHT
TZOFFSETFROM:-0800
TZOFFSETTO:-0700
TZNAME:PDT
DTSTART:20250309T100000
END:DAYLIGHT
BEGIN:STANDARD
TZOFFSETFROM:-0700
TZOFFSETTO:-0800
TZNAME:PST
DTSTART:20251102T090000
END:STANDARD
END:VTIMEZONE
BEGIN:VEVENT
DTSTART;VALUE=DATE:20240417
DTEND;VALUE=DATE:20240418
DTSTAMP:20260424T114903
CREATED:20240326T175840Z
LAST-MODIFIED:20240326T175840Z
UID:10014340-1713312000-1713398399@www.mountmadonnaschool.org
SUMMARY:5th Grade Field Trip - kayaking at Elkhorn slough
DESCRIPTION:April 17th kayaking at Elkhorn slough
URL:https://www.mountmadonnaschool.org/event-archive-single/5th-grade-field-trip-kayaking-at-elkhorn-slough/
CATEGORIES:Elementary,Field Trips
END:VEVENT
BEGIN:VEVENT
DTSTART;VALUE=DATE:20240417
DTEND;VALUE=DATE:20240418
DTSTAMP:20260424T114903
CREATED:20240408T233414Z
LAST-MODIFIED:20241001T184223Z
UID:10011407-1713312000-1713398399@www.mountmadonnaschool.org
SUMMARY:Upper Campus Lunch: Salad Bar
DESCRIPTION:
URL:https://www.mountmadonnaschool.org/event-archive-single/upper-campus-lunch-salad-bar/
CATEGORIES:Lunch,Upper Campus Lunch
END:VEVENT
BEGIN:VEVENT
DTSTART;TZID=America/Los_Angeles:20240417T153000
DTEND;TZID=America/Los_Angeles:20240417T173000
DTSTAMP:20260424T114904
CREATED:20190822T211118Z
LAST-MODIFIED:20190822T211310Z
UID:10011990-1713367800-1713375000@www.mountmadonnaschool.org
SUMMARY:HSGVB JV & Varsity Practice
DESCRIPTION:
URL:https://www.mountmadonnaschool.org/event-archive-single/hsgvb-jv-varsity-practice-8/2024-04-17/
LOCATION:Mount Madonna School Hawks Nest Gymnasium\, 491 Summit Road\, Watsonville\, CA\, 95076\, United States
CATEGORIES:Athletics,High School
GEO:37.0287895;-121.7424293
X-APPLE-STRUCTURED-LOCATION;VALUE=URI;X-ADDRESS=Mount Madonna School Hawks Nest Gymnasium 491 Summit Road Watsonville CA 95076 United States;X-APPLE-RADIUS=500;X-TITLE=491 Summit Road:geo:-121.7424293,37.0287895
END:VEVENT
BEGIN:VEVENT
DTSTART;TZID=America/Los_Angeles:20240417T153000
DTEND;TZID=America/Los_Angeles:20240417T173000
DTSTAMP:20260424T114904
CREATED:20240308T185759Z
LAST-MODIFIED:20240325T172010Z
UID:10014330-1713367800-1713375000@www.mountmadonnaschool.org
SUMMARY:Girls Beach Volleyball Practice
DESCRIPTION:
URL:https://www.mountmadonnaschool.org/event-archive-single/girls-beach-volleyball-practice/2024-04-17/
CATEGORIES:Athletics,High School
END:VEVENT
BEGIN:VEVENT
DTSTART;TZID=America/Los_Angeles:20240417T153000
DTEND;TZID=America/Los_Angeles:20240417T173000
DTSTAMP:20260424T114904
CREATED:20240328T214433Z
LAST-MODIFIED:20240408T234429Z
UID:10014366-1713367800-1713375000@www.mountmadonnaschool.org
SUMMARY:MS Boys Volleyball  Practice
DESCRIPTION:
URL:https://www.mountmadonnaschool.org/event-archive-single/ms-boys-volleyball-practice-12/2024-04-17/
CATEGORIES:Athletics,Middle School
END:VEVENT
BEGIN:VEVENT
DTSTART;TZID=America/Los_Angeles:20240417T153000
DTEND;TZID=America/Los_Angeles:20240417T173000
DTSTAMP:20260424T114904
CREATED:20240328T214433Z
LAST-MODIFIED:20240417T175917Z
UID:10014367-1713367800-1713375000@www.mountmadonnaschool.org
SUMMARY:MS Boys Volleyball  Practice
DESCRIPTION:
URL:https://www.mountmadonnaschool.org/event-archive-single/ms-boys-volleyball-practice-12-2024-04-17/2024-04-17/
CATEGORIES:Athletics,Middle School
END:VEVENT
BEGIN:VEVENT
DTSTART;TZID=America/Los_Angeles:20240417T160000
DTEND;TZID=America/Los_Angeles:20240417T170000
DTSTAMP:20260424T114904
CREATED:20240108T191404Z
LAST-MODIFIED:20240205T183610Z
UID:10014169-1713369600-1713373200@www.mountmadonnaschool.org
SUMMARY:HS Track Practice @ PV High
DESCRIPTION:
URL:https://www.mountmadonnaschool.org/event-archive-single/track-practice-pv-high/2024-04-17/
CATEGORIES:Athletics,High School
END:VEVENT
BEGIN:VEVENT
DTSTART;TZID=America/Los_Angeles:20240417T160000
DTEND;TZID=America/Los_Angeles:20240417T170000
DTSTAMP:20260424T114904
CREATED:20240328T213408Z
LAST-MODIFIED:20240408T234524Z
UID:10014351-1713369600-1713373200@www.mountmadonnaschool.org
SUMMARY:Middle School Track and Field
DESCRIPTION:Wed: 4-5pm @ PV High (with HS track)
URL:https://www.mountmadonnaschool.org/event-archive-single/middle-school-track-and-field-2/2024-04-17/
CATEGORIES:Athletics,Middle School
END:VEVENT
BEGIN:VEVENT
DTSTART;TZID=America/Los_Angeles:20240417T190000
DTEND;TZID=America/Los_Angeles:20240417T190000
DTSTAMP:20260424T114904
CREATED:20240415T192926Z
LAST-MODIFIED:20240415T193048Z
UID:10014427-1713380400-1713380400@www.mountmadonnaschool.org
SUMMARY:HSVB game @ Mount Madonna School  Vs Harbor- 7:00pm
DESCRIPTION:
URL:https://www.mountmadonnaschool.org/event-archive-single/hsvb-game-mms-600pm/
CATEGORIES:HS Volleyball Games
END:VEVENT
END:VCALENDAR