BEGIN:VCALENDAR
VERSION:2.0
PRODID:-//Mount Madonna School - ECPv6.15.10//NONSGML v1.0//EN
CALSCALE:GREGORIAN
METHOD:PUBLISH
X-ORIGINAL-URL:https://www.mountmadonnaschool.org
X-WR-CALDESC:Events for Mount Madonna School
REFRESH-INTERVAL;VALUE=DURATION:PT1H
X-Robots-Tag:noindex
X-PUBLISHED-TTL:PT1H
BEGIN:VTIMEZONE
TZID:America/Los_Angeles
BEGIN:DAYLIGHT
TZOFFSETFROM:-0800
TZOFFSETTO:-0700
TZNAME:PDT
DTSTART:20230312T100000
END:DAYLIGHT
BEGIN:STANDARD
TZOFFSETFROM:-0700
TZOFFSETTO:-0800
TZNAME:PST
DTSTART:20231105T090000
END:STANDARD
BEGIN:DAYLIGHT
TZOFFSETFROM:-0800
TZOFFSETTO:-0700
TZNAME:PDT
DTSTART:20240310T100000
END:DAYLIGHT
BEGIN:STANDARD
TZOFFSETFROM:-0700
TZOFFSETTO:-0800
TZNAME:PST
DTSTART:20241103T090000
END:STANDARD
BEGIN:DAYLIGHT
TZOFFSETFROM:-0800
TZOFFSETTO:-0700
TZNAME:PDT
DTSTART:20250309T100000
END:DAYLIGHT
BEGIN:STANDARD
TZOFFSETFROM:-0700
TZOFFSETTO:-0800
TZNAME:PST
DTSTART:20251102T090000
END:STANDARD
END:VTIMEZONE
BEGIN:VEVENT
DTSTART;VALUE=DATE:20240415
DTEND;VALUE=DATE:20240416
DTSTAMP:20260424T150938
CREATED:20240326T171052Z
LAST-MODIFIED:20240326T171052Z
UID:10014338-1713139200-1713225599@www.mountmadonnaschool.org
SUMMARY:5th grade Field trip Whale watching
DESCRIPTION:April 15th whale watching meeting at 7:45 at school or 8am at 4 corners market
URL:https://www.mountmadonnaschool.org/event-archive-single/5th-grade-field-trip-whale-watching/
CATEGORIES:Elementary,Field Trips
END:VEVENT
BEGIN:VEVENT
DTSTART;VALUE=DATE:20240415
DTEND;VALUE=DATE:20240416
DTSTAMP:20260424T150938
CREATED:20240408T233246Z
LAST-MODIFIED:20241001T184224Z
UID:10011403-1713139200-1713225599@www.mountmadonnaschool.org
SUMMARY:Upper Campus Lunch: Veggie Spaghetti +Marinara
DESCRIPTION:
URL:https://www.mountmadonnaschool.org/event-archive-single/upper-campus-lunch-veggie-spaghetti-marinara-2/
CATEGORIES:Lunch,Upper Campus Lunch
END:VEVENT
BEGIN:VEVENT
DTSTART;VALUE=DATE:20240415
DTEND;VALUE=DATE:20240416
DTSTAMP:20260424T150938
CREATED:20240412T173118Z
LAST-MODIFIED:20240412T173145Z
UID:10014425-1713139200-1713225599@www.mountmadonnaschool.org
SUMMARY:1st grade Waste Reduction Field Trip
DESCRIPTION:
URL:https://www.mountmadonnaschool.org/event-archive-single/1st-grade-waste-reduction-field-trip/
CATEGORIES:Elementary,Field Trips
END:VEVENT
BEGIN:VEVENT
DTSTART;TZID=America/Los_Angeles:20240415T153000
DTEND;TZID=America/Los_Angeles:20240415T170000
DTSTAMP:20260424T150938
CREATED:20240412T172804Z
LAST-MODIFIED:20240412T172804Z
UID:10014424-1713195000-1713200400@www.mountmadonnaschool.org
SUMMARY:Coed Frisbee practice 3:30pm - 5:00pm.
DESCRIPTION:
URL:https://www.mountmadonnaschool.org/event-archive-single/coed-frisbee-practice-330pm-500pm/
CATEGORIES:Middle School
END:VEVENT
BEGIN:VEVENT
DTSTART;TZID=America/Los_Angeles:20240415T153000
DTEND;TZID=America/Los_Angeles:20240415T173000
DTSTAMP:20260424T150938
CREATED:20190822T211118Z
LAST-MODIFIED:20190822T211310Z
UID:10011989-1713195000-1713202200@www.mountmadonnaschool.org
SUMMARY:HSGVB JV & Varsity Practice
DESCRIPTION:
URL:https://www.mountmadonnaschool.org/event-archive-single/hsgvb-jv-varsity-practice-8/2024-04-15/
LOCATION:Mount Madonna School Hawks Nest Gymnasium\, 491 Summit Road\, Watsonville\, CA\, 95076\, United States
CATEGORIES:Athletics,High School
GEO:37.0287895;-121.7424293
X-APPLE-STRUCTURED-LOCATION;VALUE=URI;X-ADDRESS=Mount Madonna School Hawks Nest Gymnasium 491 Summit Road Watsonville CA 95076 United States;X-APPLE-RADIUS=500;X-TITLE=491 Summit Road:geo:-121.7424293,37.0287895
END:VEVENT
BEGIN:VEVENT
DTSTART;TZID=America/Los_Angeles:20240415T153000
DTEND;TZID=America/Los_Angeles:20240415T173000
DTSTAMP:20260424T150938
CREATED:20240131T183701Z
LAST-MODIFIED:20240205T183832Z
UID:10014271-1713195000-1713202200@www.mountmadonnaschool.org
SUMMARY:HS Boys Volleyball Practice
DESCRIPTION:
URL:https://www.mountmadonnaschool.org/event-archive-single/hs-boys-volleyball-practice/2024-04-15/
CATEGORIES:Athletics,High School
END:VEVENT
BEGIN:VEVENT
DTSTART;TZID=America/Los_Angeles:20240415T153000
DTEND;TZID=America/Los_Angeles:20240415T173000
DTSTAMP:20260424T150938
CREATED:20240131T183701Z
LAST-MODIFIED:20240415T193532Z
UID:10014272-1713195000-1713202200@www.mountmadonnaschool.org
SUMMARY:HS Boys Volleyball Practice
DESCRIPTION:
URL:https://www.mountmadonnaschool.org/event-archive-single/hs-boys-volleyball-practice-2024-04-15/
CATEGORIES:Athletics,High School
END:VEVENT
BEGIN:VEVENT
DTSTART;TZID=America/Los_Angeles:20240415T160000
DTEND;TZID=America/Los_Angeles:20240415T170000
DTSTAMP:20260424T150938
CREATED:20240108T191404Z
LAST-MODIFIED:20240205T183610Z
UID:10014168-1713196800-1713200400@www.mountmadonnaschool.org
SUMMARY:HS Track Practice @ PV High
DESCRIPTION:
URL:https://www.mountmadonnaschool.org/event-archive-single/track-practice-pv-high/2024-04-15/
CATEGORIES:Athletics,High School
END:VEVENT
BEGIN:VEVENT
DTSTART;TZID=America/Los_Angeles:20240415T180000
DTEND;TZID=America/Los_Angeles:20240415T180000
DTSTAMP:20260424T150938
CREATED:20240415T193807Z
LAST-MODIFIED:20240415T193807Z
UID:10014426-1713204000-1713204000@www.mountmadonnaschool.org
SUMMARY:HSVB game @ Mount Madonna School - 6:00pm
DESCRIPTION:
URL:https://www.mountmadonnaschool.org/event-archive-single/hsvb-game-mms-600pm-2/
CATEGORIES:HS Volleyball Games
END:VEVENT
END:VCALENDAR