BEGIN:VCALENDAR
VERSION:2.0
PRODID:-//Mount Madonna School - ECPv6.15.10//NONSGML v1.0//EN
CALSCALE:GREGORIAN
METHOD:PUBLISH
X-ORIGINAL-URL:https://www.mountmadonnaschool.org
X-WR-CALDESC:Events for Mount Madonna School
REFRESH-INTERVAL;VALUE=DURATION:PT1H
X-Robots-Tag:noindex
X-PUBLISHED-TTL:PT1H
BEGIN:VTIMEZONE
TZID:America/Los_Angeles
BEGIN:DAYLIGHT
TZOFFSETFROM:-0800
TZOFFSETTO:-0700
TZNAME:PDT
DTSTART:20230312T100000
END:DAYLIGHT
BEGIN:STANDARD
TZOFFSETFROM:-0700
TZOFFSETTO:-0800
TZNAME:PST
DTSTART:20231105T090000
END:STANDARD
BEGIN:DAYLIGHT
TZOFFSETFROM:-0800
TZOFFSETTO:-0700
TZNAME:PDT
DTSTART:20240310T100000
END:DAYLIGHT
BEGIN:STANDARD
TZOFFSETFROM:-0700
TZOFFSETTO:-0800
TZNAME:PST
DTSTART:20241103T090000
END:STANDARD
BEGIN:DAYLIGHT
TZOFFSETFROM:-0800
TZOFFSETTO:-0700
TZNAME:PDT
DTSTART:20250309T100000
END:DAYLIGHT
BEGIN:STANDARD
TZOFFSETFROM:-0700
TZOFFSETTO:-0800
TZNAME:PST
DTSTART:20251102T090000
END:STANDARD
END:VTIMEZONE
BEGIN:VEVENT
DTSTART;VALUE=DATE:20240412
DTEND;VALUE=DATE:20240413
DTSTAMP:20260424T194732
CREATED:20240408T233201Z
LAST-MODIFIED:20241001T184224Z
UID:10011401-1712880000-1712966399@www.mountmadonnaschool.org
SUMMARY:Upper Campus Lunch: Veggie Ramen Noodle
DESCRIPTION:
URL:https://www.mountmadonnaschool.org/event-archive-single/upper-campus-lunch-veggie-ramen-noodle-5/
CATEGORIES:Lunch,Upper Campus Lunch
END:VEVENT
BEGIN:VEVENT
DTSTART;TZID=America/Los_Angeles:20240412T093000
DTEND;TZID=America/Los_Angeles:20240412T110000
DTSTAMP:20260424T194732
CREATED:20230816T151005Z
LAST-MODIFIED:20240325T203959Z
UID:10011107-1712914200-1712919600@www.mountmadonnaschool.org
SUMMARY:Preschool & Kindergarten Discovery Day - April 12
DESCRIPTION:Parents with preschool and kindergarten-age children are invited to come and learn about Mount Madonna’s unique approach to early childhood education: arts and crafts\, baking and lots of outdoor exploration. This is a family-friendly event. \nFor more information\, please contact admissions@mountmadonnaschool.org. \nPlease fill out this form and our Admissions Team will be in touch with details. \nRSVP\n\n\n                \n                        \n                            Please fill out this form and our Admissions Team will be in touch with details. \n                        \n                        CommentsThis field is for validation purposes and should be left unchanged.Your Name*\n                            \n                            \n                                                    \n                                                    First\n                                                \n                            \n                            \n                                                    \n                                                    Last\n                                                \n                            \n                        Email*\n                            \n                        Phone Number*Student Name\n                            \n                            \n                                                    \n                                                    First\n                                                \n                            \n                            \n                                                    \n                                                    Last\n                                                \n                            \n                        Student's Date of Birth*\n                            \n                            MM slash DD slash YYYY\n                        \n                        How did you hear about Mount Madonna School?\n								\n								Mailer\n							\n								\n								Santa Cruz Sentinel\n							\n								\n								Growing Up in SC\n							\n								\n								Morgan Hill Times/Gilroy Dispatch\n							\n								\n								gmh Today\n							\n								\n								The Pajaronian\n							\n								\n								SantaCruzParent.com\n							\n								\n								Radio - KAZU\n							\n								\n								Website\n							\n								\n								Social Media\n							\n								\n								MMC\n							\n								\n								Friend\n							\n								\n								Other\n							Other:*Which platform?CAPTCHA
URL:https://www.mountmadonnaschool.org/event-archive-single/preschool-kindergarten-discovery-day-3/
CATEGORIES:Admissions,eNews Coming Up,Featured Events,Kindergarten,Pre/K,Preschool
ATTACH;FMTTYPE=image/jpeg:https://www.mountmadonnaschool.org/wp-content/uploads/2023/08/Apr-12-Pre-K-Discovery_FB-1080-x-1080.jpg
END:VEVENT
BEGIN:VEVENT
DTSTART;TZID=America/Los_Angeles:20240412T153000
DTEND;TZID=America/Los_Angeles:20240412T173000
DTSTAMP:20260424T194732
CREATED:20240131T183701Z
LAST-MODIFIED:20240205T183832Z
UID:10014270-1712935800-1712943000@www.mountmadonnaschool.org
SUMMARY:HS Boys Volleyball Practice
DESCRIPTION:
URL:https://www.mountmadonnaschool.org/event-archive-single/hs-boys-volleyball-practice/2024-04-12/
CATEGORIES:Athletics,High School
END:VEVENT
BEGIN:VEVENT
DTSTART;TZID=America/Los_Angeles:20240412T160000
DTEND;TZID=America/Los_Angeles:20240412T170000
DTSTAMP:20260424T194732
CREATED:20240328T213959Z
LAST-MODIFIED:20240415T192655Z
UID:10014356-1712937600-1712941200@www.mountmadonnaschool.org
SUMMARY:Middle School Track and Field Meet
DESCRIPTION:All meets are at Harbor High School. 
URL:https://www.mountmadonnaschool.org/event-archive-single/middle-school-track-and-field-meet/2024-04-12/
LOCATION:Harbor HS\, 300 La Fonda Ave\, Santa Cruz\, CA\, 95062
CATEGORIES:Athletics,HS Track & Field Meets,Middle School,MS Track & Field Meets
GEO:36.9862029;-121.9935822
X-APPLE-STRUCTURED-LOCATION;VALUE=URI;X-ADDRESS=Harbor HS 300 La Fonda Ave Santa Cruz CA 95062;X-APPLE-RADIUS=500;X-TITLE=300 La Fonda Ave:geo:-121.9935822,36.9862029
END:VEVENT
END:VCALENDAR