BEGIN:VCALENDAR
VERSION:2.0
PRODID:-//Mount Madonna School - ECPv6.15.10//NONSGML v1.0//EN
CALSCALE:GREGORIAN
METHOD:PUBLISH
X-WR-CALNAME:Mount Madonna School
X-ORIGINAL-URL:https://www.mountmadonnaschool.org
X-WR-CALDESC:Events for Mount Madonna School
REFRESH-INTERVAL;VALUE=DURATION:PT1H
X-Robots-Tag:noindex
X-PUBLISHED-TTL:PT1H
BEGIN:VTIMEZONE
TZID:America/Los_Angeles
BEGIN:DAYLIGHT
TZOFFSETFROM:-0800
TZOFFSETTO:-0700
TZNAME:PDT
DTSTART:20230312T100000
END:DAYLIGHT
BEGIN:STANDARD
TZOFFSETFROM:-0700
TZOFFSETTO:-0800
TZNAME:PST
DTSTART:20231105T090000
END:STANDARD
BEGIN:DAYLIGHT
TZOFFSETFROM:-0800
TZOFFSETTO:-0700
TZNAME:PDT
DTSTART:20240310T100000
END:DAYLIGHT
BEGIN:STANDARD
TZOFFSETFROM:-0700
TZOFFSETTO:-0800
TZNAME:PST
DTSTART:20241103T090000
END:STANDARD
BEGIN:DAYLIGHT
TZOFFSETFROM:-0800
TZOFFSETTO:-0700
TZNAME:PDT
DTSTART:20250309T100000
END:DAYLIGHT
BEGIN:STANDARD
TZOFFSETFROM:-0700
TZOFFSETTO:-0800
TZNAME:PST
DTSTART:20251102T090000
END:STANDARD
END:VTIMEZONE
BEGIN:VEVENT
DTSTART;VALUE=DATE:20240401
DTEND;VALUE=DATE:20240406
DTSTAMP:20260425T105441
CREATED:20230503T225209Z
LAST-MODIFIED:20240325T203936Z
UID:10013742-1711929600-1712361599@www.mountmadonnaschool.org
SUMMARY:No School – Spring Break
DESCRIPTION:
URL:https://www.mountmadonnaschool.org/event-archive-single/no-school-spring-break-6/
CATEGORIES:eNews Coming Up,Featured Events,Holiday
END:VEVENT
BEGIN:VEVENT
DTSTART;TZID=America/Los_Angeles:20240403T153000
DTEND;TZID=America/Los_Angeles:20240403T173000
DTSTAMP:20260425T105441
CREATED:20190822T211118Z
LAST-MODIFIED:20190822T211310Z
UID:10011986-1712158200-1712165400@www.mountmadonnaschool.org
SUMMARY:HSGVB JV & Varsity Practice
DESCRIPTION:
URL:https://www.mountmadonnaschool.org/event-archive-single/hsgvb-jv-varsity-practice-8/2024-04-03/
LOCATION:Mount Madonna School Hawks Nest Gymnasium\, 491 Summit Road\, Watsonville\, CA\, 95076\, United States
CATEGORIES:Athletics,High School
GEO:37.0287895;-121.7424293
X-APPLE-STRUCTURED-LOCATION;VALUE=URI;X-ADDRESS=Mount Madonna School Hawks Nest Gymnasium 491 Summit Road Watsonville CA 95076 United States;X-APPLE-RADIUS=500;X-TITLE=491 Summit Road:geo:-121.7424293,37.0287895
END:VEVENT
BEGIN:VEVENT
DTSTART;TZID=America/Los_Angeles:20240403T153000
DTEND;TZID=America/Los_Angeles:20240403T173000
DTSTAMP:20260425T105441
CREATED:20240131T183701Z
LAST-MODIFIED:20240205T183832Z
UID:10014265-1712158200-1712165400@www.mountmadonnaschool.org
SUMMARY:HS Boys Volleyball Practice
DESCRIPTION:
URL:https://www.mountmadonnaschool.org/event-archive-single/hs-boys-volleyball-practice/2024-04-03/
CATEGORIES:Athletics,High School
END:VEVENT
BEGIN:VEVENT
DTSTART;TZID=America/Los_Angeles:20240403T153000
DTEND;TZID=America/Los_Angeles:20240403T173000
DTSTAMP:20260425T105441
CREATED:20240308T185759Z
LAST-MODIFIED:20240325T172010Z
UID:10014328-1712158200-1712165400@www.mountmadonnaschool.org
SUMMARY:Girls Beach Volleyball Practice
DESCRIPTION:
URL:https://www.mountmadonnaschool.org/event-archive-single/girls-beach-volleyball-practice/2024-04-03/
CATEGORIES:Athletics,High School
END:VEVENT
BEGIN:VEVENT
DTSTART;TZID=America/Los_Angeles:20240403T160000
DTEND;TZID=America/Los_Angeles:20240403T170000
DTSTAMP:20260425T105441
CREATED:20240108T191404Z
LAST-MODIFIED:20240205T183610Z
UID:10014165-1712160000-1712163600@www.mountmadonnaschool.org
SUMMARY:HS Track Practice @ PV High
DESCRIPTION:
URL:https://www.mountmadonnaschool.org/event-archive-single/track-practice-pv-high/2024-04-03/
CATEGORIES:Athletics,High School
END:VEVENT
END:VCALENDAR